BEGIN:VCALENDAR
VERSION:2.0
PRODID:-//Benton Franklin Rental Owners Association web - ECPv6.15.17.1//NONSGML v1.0//EN
CALSCALE:GREGORIAN
METHOD:PUBLISH
X-WR-CALNAME:Benton Franklin Rental Owners Association web
X-ORIGINAL-URL:https://broawa.org
X-WR-CALDESC:Events for Benton Franklin Rental Owners Association web
REFRESH-INTERVAL;VALUE=DURATION:PT1H
X-Robots-Tag:noindex
X-PUBLISHED-TTL:PT1H
BEGIN:VTIMEZONE
TZID:America/Los_Angeles
BEGIN:DAYLIGHT
TZOFFSETFROM:-0800
TZOFFSETTO:-0700
TZNAME:PDT
DTSTART:20230312T100000
END:DAYLIGHT
BEGIN:STANDARD
TZOFFSETFROM:-0700
TZOFFSETTO:-0800
TZNAME:PST
DTSTART:20231105T090000
END:STANDARD
BEGIN:DAYLIGHT
TZOFFSETFROM:-0800
TZOFFSETTO:-0700
TZNAME:PDT
DTSTART:20240310T100000
END:DAYLIGHT
BEGIN:STANDARD
TZOFFSETFROM:-0700
TZOFFSETTO:-0800
TZNAME:PST
DTSTART:20241103T090000
END:STANDARD
BEGIN:DAYLIGHT
TZOFFSETFROM:-0800
TZOFFSETTO:-0700
TZNAME:PDT
DTSTART:20250309T100000
END:DAYLIGHT
BEGIN:STANDARD
TZOFFSETFROM:-0700
TZOFFSETTO:-0800
TZNAME:PST
DTSTART:20251102T090000
END:STANDARD
END:VTIMEZONE
BEGIN:VEVENT
DTSTART;TZID=America/Los_Angeles:20241205T173000
DTEND;TZID=America/Los_Angeles:20241205T203000
DTSTAMP:20260424T094415
CREATED:20241106T234434Z
LAST-MODIFIED:20241205T024943Z
UID:11601-1733419800-1733430600@broawa.org
SUMMARY:2024 Member Christmas Party
DESCRIPTION:You will need to login first to the website to Purchase your tickets\nCost: $50 per Attendee <- if you do not see the signup please login to the website. \nThursday\, December 5\, 2024\nSocial at 5:30 PM\nDinner at 6:00 PM \nLocation: Meadow Springs Country Club: 700 Country Club Rd\, Richland\, WA 99352 \nChristmas Dinner Menu:  \nHoliday Dinner: All entrees include salad\, side\, vegetables\, bread\, and dessert. \nPlease select your entree & desert choice per guest\, during registration: \nFood Choices:\n1. Herb Roasted Prime Rib\n2. Champagne chicken\n3. Arugula Pesto Crusted Salmon \nDessert Choices:\n1. Chocolate Lava Cake with Crème Anglaise\n2. New York Style Cheesecake\n3. Crème Brûlée \nGuest Speakers:  \n\nJim Henderson – Our current Lobbyist\nApril Conners – Legislative District 8 State Representative\, vice-ranking on the House Housing Committee.\n\nThis will be your chance to mingle with our lobbyist and one of our state legislatures. \nVenue Dress code – The dress code applies to all members and guests using the Club. Members and guests shall comply with the MSCC dress code. \n\nMen shall have a collared or mock neck shirt with appropriate pants or shorts.\nWomen shall have either collared\, mock neck or sleeved shirt with appropriate pants. Ladies’ sleeveless dresses\, sunback dresses and formal/ evening dresses are permitted in the Clubhouse facilities.\nNice Jeans in good repair are ok to wear. 
URL:https://broawa.org/event/2024-member-christmas-party/
LOCATION:Meadow Springs Country Club\, 700 Country Club Rd\, Richland\, WA\, 99352
CATEGORIES:Membership Meetings
ATTACH;FMTTYPE=image/png:https://broawa.org/wp-content/uploads/2024/10/Green-Red-Simple-Christmas-Party-Invitation-.png
END:VEVENT
END:VCALENDAR