BEGIN:VCALENDAR
VERSION:2.0
PRODID:-//Benton Franklin Rental Owners Association web - ECPv6.15.17.1//NONSGML v1.0//EN
CALSCALE:GREGORIAN
METHOD:PUBLISH
X-ORIGINAL-URL:https://broawa.org
X-WR-CALDESC:Events for Benton Franklin Rental Owners Association web
REFRESH-INTERVAL;VALUE=DURATION:PT1H
X-Robots-Tag:noindex
X-PUBLISHED-TTL:PT1H
BEGIN:VTIMEZONE
TZID:America/Los_Angeles
BEGIN:DAYLIGHT
TZOFFSETFROM:-0800
TZOFFSETTO:-0700
TZNAME:PDT
DTSTART:20250309T100000
END:DAYLIGHT
BEGIN:STANDARD
TZOFFSETFROM:-0700
TZOFFSETTO:-0800
TZNAME:PST
DTSTART:20251102T090000
END:STANDARD
BEGIN:DAYLIGHT
TZOFFSETFROM:-0800
TZOFFSETTO:-0700
TZNAME:PDT
DTSTART:20260308T100000
END:DAYLIGHT
BEGIN:STANDARD
TZOFFSETFROM:-0700
TZOFFSETTO:-0800
TZNAME:PST
DTSTART:20261101T090000
END:STANDARD
BEGIN:DAYLIGHT
TZOFFSETFROM:-0800
TZOFFSETTO:-0700
TZNAME:PDT
DTSTART:20270314T100000
END:DAYLIGHT
BEGIN:STANDARD
TZOFFSETFROM:-0700
TZOFFSETTO:-0800
TZNAME:PST
DTSTART:20271107T090000
END:STANDARD
END:VTIMEZONE
BEGIN:VEVENT
DTSTART;TZID=America/Los_Angeles:20260206T080000
DTEND;TZID=America/Los_Angeles:20260206T163000
DTSTAMP:20260423T120333
CREATED:20251117T161936Z
LAST-MODIFIED:20251117T161944Z
UID:12823-1770364800-1770395400@broawa.org
SUMMARY:Lead Paint Training
DESCRIPTION:EPA / HUD / Washington \n\n\n\nLead Paint RRP Certification Class \n\n\n\nTri Cities WA / Kennewick WA \n\n\n\nDo You Own any Pre-1978 Buildings?\n\n\n\nGet EPA & State RRP Lead Paint Certified Quickly & Easily. Avoid $49\,772 Fines!\n\n\n\nWHO must get certified?\n\n\n\nAll General Contractors\, Sub-Contractors\, Installers\, Handymen\, Rental Property Owners\, Landlords\, Property Managers  & Maintenance Workers who work\, or even bid on work\, in Pre-1978 Buildings are required by the EPA & States to be Lead Paint Certiﬁed.  Any work that has the possibility of disturbing paint requires Certification to even bid on the job. This could include sanding\, scraping\, demolition\, cutting\, drilling and any other activity that may produce dust\, debris & paint chips.  The EPA has issued tens of millions of $$$ in ﬁnes to Landlords just like you.   The Good News? It’s easy to protect yourself\, your company and your family. This 8 hour class includes everything required to keep you compliant with state and federal law.
URL:https://broawa.org/event/lead-paint-training/
LOCATION:La Quinta Inn & Suites Kennewick\, 2600 S Quillan Pl\, Kennewick\, Washington\, 99338
CATEGORIES:Community Events
ORGANIZER;CN="leadclasses.com":MAILTO:Info@LeadClasses.com
END:VEVENT
END:VCALENDAR