BEGIN:VCALENDAR
VERSION:2.0
PRODID:-//Benton Franklin Rental Owners Association web - ECPv6.15.17.1//NONSGML v1.0//EN
CALSCALE:GREGORIAN
METHOD:PUBLISH
X-ORIGINAL-URL:https://broawa.org
X-WR-CALDESC:Events for Benton Franklin Rental Owners Association web
REFRESH-INTERVAL;VALUE=DURATION:PT1H
X-Robots-Tag:noindex
X-PUBLISHED-TTL:PT1H
BEGIN:VTIMEZONE
TZID:America/Los_Angeles
BEGIN:DAYLIGHT
TZOFFSETFROM:-0800
TZOFFSETTO:-0700
TZNAME:PDT
DTSTART:20220313T100000
END:DAYLIGHT
BEGIN:STANDARD
TZOFFSETFROM:-0700
TZOFFSETTO:-0800
TZNAME:PST
DTSTART:20221106T090000
END:STANDARD
BEGIN:DAYLIGHT
TZOFFSETFROM:-0800
TZOFFSETTO:-0700
TZNAME:PDT
DTSTART:20230312T100000
END:DAYLIGHT
BEGIN:STANDARD
TZOFFSETFROM:-0700
TZOFFSETTO:-0800
TZNAME:PST
DTSTART:20231105T090000
END:STANDARD
BEGIN:DAYLIGHT
TZOFFSETFROM:-0800
TZOFFSETTO:-0700
TZNAME:PDT
DTSTART:20240310T100000
END:DAYLIGHT
BEGIN:STANDARD
TZOFFSETFROM:-0700
TZOFFSETTO:-0800
TZNAME:PST
DTSTART:20241103T090000
END:STANDARD
BEGIN:DAYLIGHT
TZOFFSETFROM:-0800
TZOFFSETTO:-0700
TZNAME:PDT
DTSTART:20250309T100000
END:DAYLIGHT
BEGIN:STANDARD
TZOFFSETFROM:-0700
TZOFFSETTO:-0800
TZNAME:PST
DTSTART:20251102T090000
END:STANDARD
BEGIN:DAYLIGHT
TZOFFSETFROM:-0800
TZOFFSETTO:-0700
TZNAME:PDT
DTSTART:20260308T100000
END:DAYLIGHT
BEGIN:STANDARD
TZOFFSETFROM:-0700
TZOFFSETTO:-0800
TZNAME:PST
DTSTART:20261101T090000
END:STANDARD
BEGIN:DAYLIGHT
TZOFFSETFROM:-0800
TZOFFSETTO:-0700
TZNAME:PDT
DTSTART:20270314T100000
END:DAYLIGHT
BEGIN:STANDARD
TZOFFSETFROM:-0700
TZOFFSETTO:-0800
TZNAME:PST
DTSTART:20271107T090000
END:STANDARD
END:VTIMEZONE
BEGIN:VEVENT
DTSTART;TZID=America/Los_Angeles:20260413T180000
DTEND;TZID=America/Los_Angeles:20260413T190000
DTSTAMP:20260423T152016
CREATED:20260316T132946Z
LAST-MODIFIED:20260316T132949Z
UID:13040-1776103200-1776106800@broawa.org
SUMMARY:Monthly Board Meeting
DESCRIPTION:Monthly BROA Board of Directors Meeting
URL:https://broawa.org/event/monthly-board-meeting-5/
LOCATION:IHS\, 5903 W Clearwater Ave\, Kennewick\, Washington\, 99336\, United States
CATEGORIES:Board Meetings
END:VEVENT
BEGIN:VEVENT
DTSTART;TZID=America/Los_Angeles:20251110T180000
DTEND;TZID=America/Los_Angeles:20251110T190000
DTSTAMP:20260423T152016
CREATED:20241228T031330Z
LAST-MODIFIED:20241228T032204Z
UID:11888-1762797600-1762801200@broawa.org
SUMMARY:Monthly Board Meeting
DESCRIPTION:Monthly BROA Board of Directors Meeting
URL:https://broawa.org/event/monthly-board-meeting-25/
LOCATION:Bottom Line LLC\, 5903 W Clearwater Ave\, Kennewick\, Washington\, 99336\, United States
CATEGORIES:Board Meetings
END:VEVENT
BEGIN:VEVENT
DTSTART;TZID=America/Los_Angeles:20251013T180000
DTEND;TZID=America/Los_Angeles:20251013T190000
DTSTAMP:20260423T152016
CREATED:20241228T031253Z
LAST-MODIFIED:20241228T032212Z
UID:11886-1760378400-1760382000@broawa.org
SUMMARY:Monthly Board Meeting
DESCRIPTION:Monthly BROA Board of Directors Meeting
URL:https://broawa.org/event/monthly-board-meeting-24/
LOCATION:Bottom Line LLC\, 5903 W Clearwater Ave\, Kennewick\, Washington\, 99336\, United States
CATEGORIES:Board Meetings
END:VEVENT
BEGIN:VEVENT
DTSTART;TZID=America/Los_Angeles:20250908T180000
DTEND;TZID=America/Los_Angeles:20250908T190000
DTSTAMP:20260423T152016
CREATED:20241228T031219Z
LAST-MODIFIED:20241228T032220Z
UID:11884-1757354400-1757358000@broawa.org
SUMMARY:Monthly Board Meeting
DESCRIPTION:Monthly BROA Board of Directors Meeting
URL:https://broawa.org/event/monthly-board-meeting-23/
LOCATION:Bottom Line LLC\, 5903 W Clearwater Ave\, Kennewick\, Washington\, 99336\, United States
CATEGORIES:Board Meetings
END:VEVENT
BEGIN:VEVENT
DTSTART;TZID=America/Los_Angeles:20250811T180000
DTEND;TZID=America/Los_Angeles:20250811T190000
DTSTAMP:20260423T152016
CREATED:20241228T031135Z
LAST-MODIFIED:20241228T032241Z
UID:11882-1754935200-1754938800@broawa.org
SUMMARY:Monthly Board Meeting
DESCRIPTION:Monthly BROA Board of Directors Meeting
URL:https://broawa.org/event/monthly-board-meeting-22/
LOCATION:Bottom Line LLC\, 5903 W Clearwater Ave\, Kennewick\, Washington\, 99336\, United States
CATEGORIES:Board Meetings
END:VEVENT
BEGIN:VEVENT
DTSTART;TZID=America/Los_Angeles:20250714T180000
DTEND;TZID=America/Los_Angeles:20250714T190000
DTSTAMP:20260423T152016
CREATED:20241228T031052Z
LAST-MODIFIED:20241228T032250Z
UID:11880-1752516000-1752519600@broawa.org
SUMMARY:Monthly Board Meeting
DESCRIPTION:Monthly BROA Board of Directors Meeting
URL:https://broawa.org/event/monthly-board-meeting-21/
LOCATION:Bottom Line LLC\, 5903 W Clearwater Ave\, Kennewick\, Washington\, 99336\, United States
CATEGORIES:Board Meetings
END:VEVENT
BEGIN:VEVENT
DTSTART;TZID=America/Los_Angeles:20250609T180000
DTEND;TZID=America/Los_Angeles:20250609T190000
DTSTAMP:20260423T152016
CREATED:20241228T031004Z
LAST-MODIFIED:20241228T032314Z
UID:11878-1749492000-1749495600@broawa.org
SUMMARY:Monthly Board Meeting
DESCRIPTION:Monthly BROA Board of Directors Meeting
URL:https://broawa.org/event/monthly-board-meeting-20/
LOCATION:Bottom Line LLC\, 5903 W Clearwater Ave\, Kennewick\, Washington\, 99336\, United States
CATEGORIES:Board Meetings
END:VEVENT
BEGIN:VEVENT
DTSTART;TZID=America/Los_Angeles:20250512T180000
DTEND;TZID=America/Los_Angeles:20250512T190000
DTSTAMP:20260423T152016
CREATED:20241228T030927Z
LAST-MODIFIED:20241228T032333Z
UID:11876-1747072800-1747076400@broawa.org
SUMMARY:Monthly Board Meeting
DESCRIPTION:Monthly BROA Board of Directors Meeting
URL:https://broawa.org/event/monthly-board-meeting-19/
LOCATION:Bottom Line LLC\, 5903 W Clearwater Ave\, Kennewick\, Washington\, 99336\, United States
CATEGORIES:Board Meetings
END:VEVENT
BEGIN:VEVENT
DTSTART;TZID=America/Los_Angeles:20250414T180000
DTEND;TZID=America/Los_Angeles:20250414T190000
DTSTAMP:20260423T152016
CREATED:20241228T030750Z
LAST-MODIFIED:20241228T032421Z
UID:11874-1744653600-1744657200@broawa.org
SUMMARY:Monthly Board Meeting
DESCRIPTION:Monthly BROA Board of Directors Meeting
URL:https://broawa.org/event/monthly-board-meeting-4/
LOCATION:Bottom Line LLC\, 5903 W Clearwater Ave\, Kennewick\, Washington\, 99336\, United States
CATEGORIES:Board Meetings
END:VEVENT
BEGIN:VEVENT
DTSTART;TZID=America/Los_Angeles:20250310T180000
DTEND;TZID=America/Los_Angeles:20250310T190000
DTSTAMP:20260423T152016
CREATED:20241228T030628Z
LAST-MODIFIED:20241228T032408Z
UID:11872-1741629600-1741633200@broawa.org
SUMMARY:Monthly Board Meeting
DESCRIPTION:Monthly BROA Board of Directors Meeting
URL:https://broawa.org/event/monthly-board-meeting-3/
LOCATION:Bottom Line LLC\, 5903 W Clearwater Ave\, Kennewick\, Washington\, 99336\, United States
CATEGORIES:Board Meetings
END:VEVENT
BEGIN:VEVENT
DTSTART;TZID=America/Los_Angeles:20250113T180000
DTEND;TZID=America/Los_Angeles:20250113T190000
DTSTAMP:20260423T152016
CREATED:20241228T030321Z
LAST-MODIFIED:20241228T033108Z
UID:11864-1736791200-1736794800@broawa.org
SUMMARY:Monthly Board Meeting
DESCRIPTION:Monthly BROA Board of Directors Meeting
URL:https://broawa.org/event/monthly-board-meeting/
LOCATION:Bottom Line LLC\, 5903 W Clearwater Ave\, Kennewick\, Washington\, 99336\, United States
CATEGORIES:Board Meetings
END:VEVENT
BEGIN:VEVENT
DTSTART;TZID=America/Los_Angeles:20241111T183000
DTEND;TZID=America/Los_Angeles:20241111T200000
DTSTAMP:20260423T152016
CREATED:20240105T233903Z
LAST-MODIFIED:20240105T233903Z
UID:10444-1731349800-1731355200@broawa.org
SUMMARY:Board Meeting
DESCRIPTION:
URL:https://broawa.org/event/board-meeting-12/
LOCATION:EverStar Realty\, 1920 N Pittsburgh St a\, Kennewick\, WA\, 99336\, United States
CATEGORIES:Board Meetings
END:VEVENT
BEGIN:VEVENT
DTSTART;TZID=America/Los_Angeles:20241014T183000
DTEND;TZID=America/Los_Angeles:20241014T200000
DTSTAMP:20260423T152016
CREATED:20240105T233830Z
LAST-MODIFIED:20240105T233830Z
UID:10442-1728930600-1728936000@broawa.org
SUMMARY:Board Meeting
DESCRIPTION:
URL:https://broawa.org/event/board-meeting-11/
LOCATION:EverStar Realty\, 1920 N Pittsburgh St a\, Kennewick\, WA\, 99336\, United States
CATEGORIES:Board Meetings
END:VEVENT
BEGIN:VEVENT
DTSTART;TZID=America/Los_Angeles:20240909T183000
DTEND;TZID=America/Los_Angeles:20240909T200000
DTSTAMP:20260423T152016
CREATED:20240105T233758Z
LAST-MODIFIED:20240105T233758Z
UID:10440-1725906600-1725912000@broawa.org
SUMMARY:Board Meeting
DESCRIPTION:
URL:https://broawa.org/event/board-meeting-10/
LOCATION:EverStar Realty\, 1920 N Pittsburgh St a\, Kennewick\, WA\, 99336\, United States
CATEGORIES:Board Meetings
END:VEVENT
BEGIN:VEVENT
DTSTART;TZID=America/Los_Angeles:20240812T183000
DTEND;TZID=America/Los_Angeles:20240812T200000
DTSTAMP:20260423T152016
CREATED:20240105T233730Z
LAST-MODIFIED:20240105T233730Z
UID:10438-1723487400-1723492800@broawa.org
SUMMARY:Board Meeting
DESCRIPTION:
URL:https://broawa.org/event/board-meeting-9/
LOCATION:EverStar Realty\, 1920 N Pittsburgh St a\, Kennewick\, WA\, 99336\, United States
CATEGORIES:Board Meetings
END:VEVENT
BEGIN:VEVENT
DTSTART;TZID=America/Los_Angeles:20240708T183000
DTEND;TZID=America/Los_Angeles:20240708T200000
DTSTAMP:20260423T152016
CREATED:20240105T233704Z
LAST-MODIFIED:20240105T233704Z
UID:10436-1720463400-1720468800@broawa.org
SUMMARY:Board Meeting
DESCRIPTION:
URL:https://broawa.org/event/board-meeting-8/
LOCATION:EverStar Realty\, 1920 N Pittsburgh St a\, Kennewick\, WA\, 99336\, United States
CATEGORIES:Board Meetings
END:VEVENT
BEGIN:VEVENT
DTSTART;TZID=America/Los_Angeles:20240610T183000
DTEND;TZID=America/Los_Angeles:20240610T200000
DTSTAMP:20260423T152016
CREATED:20240105T233635Z
LAST-MODIFIED:20240105T233635Z
UID:10434-1718044200-1718049600@broawa.org
SUMMARY:Board Meeting
DESCRIPTION:
URL:https://broawa.org/event/board-meeting-7/
LOCATION:EverStar Realty\, 1920 N Pittsburgh St a\, Kennewick\, WA\, 99336\, United States
CATEGORIES:Board Meetings
END:VEVENT
BEGIN:VEVENT
DTSTART;TZID=America/Los_Angeles:20240513T183000
DTEND;TZID=America/Los_Angeles:20240513T200000
DTSTAMP:20260423T152016
CREATED:20240105T233600Z
LAST-MODIFIED:20240105T233600Z
UID:10432-1715625000-1715630400@broawa.org
SUMMARY:Board Meeting
DESCRIPTION:
URL:https://broawa.org/event/board-meeting-6/
LOCATION:EverStar Realty\, 1920 N Pittsburgh St a\, Kennewick\, WA\, 99336\, United States
CATEGORIES:Board Meetings
END:VEVENT
BEGIN:VEVENT
DTSTART;TZID=America/Los_Angeles:20240408T183000
DTEND;TZID=America/Los_Angeles:20240408T200000
DTSTAMP:20260423T152016
CREATED:20240105T233517Z
LAST-MODIFIED:20240105T233517Z
UID:10430-1712601000-1712606400@broawa.org
SUMMARY:Board Meeting
DESCRIPTION:
URL:https://broawa.org/event/board-meeting-5/
LOCATION:EverStar Realty\, 1920 N Pittsburgh St a\, Kennewick\, WA\, 99336\, United States
CATEGORIES:Board Meetings
END:VEVENT
BEGIN:VEVENT
DTSTART;TZID=America/Los_Angeles:20240311T183000
DTEND;TZID=America/Los_Angeles:20240311T200000
DTSTAMP:20260423T152016
CREATED:20240105T233415Z
LAST-MODIFIED:20240105T233415Z
UID:10427-1710181800-1710187200@broawa.org
SUMMARY:Board Meeting
DESCRIPTION:
URL:https://broawa.org/event/board-meeting-4/
LOCATION:EverStar Realty\, 1920 N Pittsburgh St a\, Kennewick\, WA\, 99336\, United States
CATEGORIES:Board Meetings
END:VEVENT
BEGIN:VEVENT
DTSTART;TZID=America/Los_Angeles:20240212T180000
DTEND;TZID=America/Los_Angeles:20240212T190000
DTSTAMP:20260423T152016
CREATED:20240105T233323Z
LAST-MODIFIED:20240105T233323Z
UID:10425-1707760800-1707764400@broawa.org
SUMMARY:Board Meeting
DESCRIPTION:Legislative Zoom Meeting will happen right after the board meeting
URL:https://broawa.org/event/board-meeting-3/
LOCATION:EverStar Realty\, 1920 N Pittsburgh St a\, Kennewick\, WA\, 99336\, United States
CATEGORIES:Board Meetings
END:VEVENT
BEGIN:VEVENT
DTSTART;TZID=America/Los_Angeles:20240108T180000
DTEND;TZID=America/Los_Angeles:20240108T190000
DTSTAMP:20260423T152016
CREATED:20240105T220100Z
LAST-MODIFIED:20240105T220152Z
UID:10392-1704736800-1704740400@broawa.org
SUMMARY:Board Meeting
DESCRIPTION:Legislative Zoom Meeting will happen right after the board meeting
URL:https://broawa.org/event/board-meeting-2/
LOCATION:EverStar Realty\, 1920 N Pittsburgh St a\, Kennewick\, WA\, 99336\, United States
CATEGORIES:Board Meetings
END:VEVENT
BEGIN:VEVENT
DTSTART;TZID=America/Los_Angeles:20231211T183000
DTEND;TZID=America/Los_Angeles:20231211T200000
DTSTAMP:20260423T152016
CREATED:20221121T010349Z
LAST-MODIFIED:20221121T010349Z
UID:7165-1702319400-1702324800@broawa.org
SUMMARY:Monthly Board Meeting
DESCRIPTION:
URL:https://broawa.org/event/monthly-board-meeting-18/
LOCATION:EverStar Realty\, 1920 N Pittsburgh St a\, Kennewick\, WA\, 99336\, United States
CATEGORIES:Board Meetings
END:VEVENT
BEGIN:VEVENT
DTSTART;TZID=America/Los_Angeles:20231113T183000
DTEND;TZID=America/Los_Angeles:20231113T200000
DTSTAMP:20260423T152016
CREATED:20221121T010309Z
LAST-MODIFIED:20221121T010309Z
UID:7157-1699900200-1699905600@broawa.org
SUMMARY:Monthly Board Meeting
DESCRIPTION:
URL:https://broawa.org/event/monthly-board-meeting-17/
LOCATION:EverStar Realty\, 1920 N Pittsburgh St a\, Kennewick\, WA\, 99336\, United States
CATEGORIES:Board Meetings
END:VEVENT
BEGIN:VEVENT
DTSTART;TZID=America/Los_Angeles:20231009T183000
DTEND;TZID=America/Los_Angeles:20231009T200000
DTSTAMP:20260423T152016
CREATED:20221121T010023Z
LAST-MODIFIED:20221121T010023Z
UID:7155-1696876200-1696881600@broawa.org
SUMMARY:Monthly Board Meeting
DESCRIPTION:
URL:https://broawa.org/event/monthly-board-meeting-16/
LOCATION:EverStar Realty\, 1920 N Pittsburgh St a\, Kennewick\, WA\, 99336\, United States
CATEGORIES:Board Meetings
END:VEVENT
BEGIN:VEVENT
DTSTART;TZID=America/Los_Angeles:20230911T183000
DTEND;TZID=America/Los_Angeles:20230911T200000
DTSTAMP:20260423T152016
CREATED:20221121T005839Z
LAST-MODIFIED:20221121T005839Z
UID:7153-1694457000-1694462400@broawa.org
SUMMARY:Monthly Board Meeting
DESCRIPTION:
URL:https://broawa.org/event/monthly-board-meeting-15/
LOCATION:EverStar Realty\, 1920 N Pittsburgh St a\, Kennewick\, WA\, 99336\, United States
CATEGORIES:Board Meetings
END:VEVENT
BEGIN:VEVENT
DTSTART;TZID=America/Los_Angeles:20230814T183000
DTEND;TZID=America/Los_Angeles:20230814T200000
DTSTAMP:20260423T152016
CREATED:20221121T005753Z
LAST-MODIFIED:20221121T005753Z
UID:7151-1692037800-1692043200@broawa.org
SUMMARY:Monthly Board Meeting
DESCRIPTION:
URL:https://broawa.org/event/monthly-board-meeting-14/
LOCATION:EverStar Realty\, 1920 N Pittsburgh St a\, Kennewick\, WA\, 99336\, United States
CATEGORIES:Board Meetings
END:VEVENT
BEGIN:VEVENT
DTSTART;TZID=America/Los_Angeles:20230710T183000
DTEND;TZID=America/Los_Angeles:20230710T200000
DTSTAMP:20260423T152016
CREATED:20221121T005712Z
LAST-MODIFIED:20241228T025908Z
UID:7149-1689013800-1689019200@broawa.org
SUMMARY:Monthly Board Meeting
DESCRIPTION:
URL:https://broawa.org/event/monthly-board-meeting-13/
LOCATION:EverStar Realty\, 1920 N Pittsburgh St a\, Kennewick\, WA\, 99336\, United States
CATEGORIES:Board Meetings
END:VEVENT
BEGIN:VEVENT
DTSTART;TZID=America/Los_Angeles:20230612T183000
DTEND;TZID=America/Los_Angeles:20230612T200000
DTSTAMP:20260423T152016
CREATED:20221121T005617Z
LAST-MODIFIED:20221121T005617Z
UID:7147-1686594600-1686600000@broawa.org
SUMMARY:Monthly Board Meeting
DESCRIPTION:
URL:https://broawa.org/event/monthly-board-meeting-12/
LOCATION:EverStar Realty\, 1920 N Pittsburgh St a\, Kennewick\, WA\, 99336\, United States
CATEGORIES:Board Meetings
END:VEVENT
BEGIN:VEVENT
DTSTART;TZID=America/Los_Angeles:20230508T183000
DTEND;TZID=America/Los_Angeles:20230508T200000
DTSTAMP:20260423T152016
CREATED:20221121T005530Z
LAST-MODIFIED:20221121T005530Z
UID:7145-1683570600-1683576000@broawa.org
SUMMARY:Monthly Board Meeting
DESCRIPTION:
URL:https://broawa.org/event/monthly-board-meeting-11/
LOCATION:EverStar Realty\, 1920 N Pittsburgh St a\, Kennewick\, WA\, 99336\, United States
CATEGORIES:Board Meetings
END:VEVENT
END:VCALENDAR