BEGIN:VCALENDAR
VERSION:2.0
PRODID:-//Benton Franklin Rental Owners Association web - ECPv6.15.17.1//NONSGML v1.0//EN
CALSCALE:GREGORIAN
METHOD:PUBLISH
X-WR-CALNAME:Benton Franklin Rental Owners Association web
X-ORIGINAL-URL:https://broawa.org
X-WR-CALDESC:Events for Benton Franklin Rental Owners Association web
REFRESH-INTERVAL;VALUE=DURATION:PT1H
X-Robots-Tag:noindex
X-PUBLISHED-TTL:PT1H
BEGIN:VTIMEZONE
TZID:America/Los_Angeles
BEGIN:DAYLIGHT
TZOFFSETFROM:-0800
TZOFFSETTO:-0700
TZNAME:PDT
DTSTART:20230312T100000
END:DAYLIGHT
BEGIN:STANDARD
TZOFFSETFROM:-0700
TZOFFSETTO:-0800
TZNAME:PST
DTSTART:20231105T090000
END:STANDARD
BEGIN:DAYLIGHT
TZOFFSETFROM:-0800
TZOFFSETTO:-0700
TZNAME:PDT
DTSTART:20240310T100000
END:DAYLIGHT
BEGIN:STANDARD
TZOFFSETFROM:-0700
TZOFFSETTO:-0800
TZNAME:PST
DTSTART:20241103T090000
END:STANDARD
BEGIN:DAYLIGHT
TZOFFSETFROM:-0800
TZOFFSETTO:-0700
TZNAME:PDT
DTSTART:20250309T100000
END:DAYLIGHT
BEGIN:STANDARD
TZOFFSETFROM:-0700
TZOFFSETTO:-0800
TZNAME:PST
DTSTART:20251102T090000
END:STANDARD
END:VTIMEZONE
BEGIN:VEVENT
DTSTART;TZID=America/Los_Angeles:20241003T180000
DTEND;TZID=America/Los_Angeles:20241003T193000
DTSTAMP:20260424T172554
CREATED:20240911T182236Z
LAST-MODIFIED:20240911T200943Z
UID:11478-1727978400-1727983800@broawa.org
SUMMARY:2024 Screening Seminar
DESCRIPTION:LIMITED Seating RSVP today!!!\nRSVP At the BOTTOM of the Page (You must be logged in as an active member first then come back to this page)\n\nCome and learn from an experianced Property Manager about the importance of screening tenenants and the available options to do so\, pros and cons of the methods. Rental criteria and why your requried to have it\, and related notices when you screen out tenants. Cost is free for current BROA members.\n  \nNeed to Renew\, pay dues online\, mail or bring your dues into the office Today!\n  \nNot a member yet?   JOIN ONLINE TODAY\n\n\nLocation:  Columbia Basin College\, Building SWL\, Room 121. Drive as if your going to the Airport on 20th Street in Pasco\, turn on W Arrgent Rd at the stop light before the airport\, Turn left on Saraceno Way onto the campus\, take the 3 exit on the round about\, SWL building will be on your left\, and a parking lot to your right.  \n \n(Walk in through the main entrance\, it is the round auditorium on the right.)   Click the   Campus Map \nYOU MUST LOG INTO THE WEBSITE FOR THE RSVP BUTTON BELOW TO WORK: LOGIN HERE  \nStill having trouble signing ups use the Contact Us form to send us a message and we’ll make sure you get signed up.
URL:https://broawa.org/event/2024-screening-seminar/
LOCATION:Columbia Basin College\, 2600 N 20th Ave\, Pasco\, WA\, 99301\, United States
CATEGORIES:Forms Orientation
END:VEVENT
END:VCALENDAR