BEGIN:VCALENDAR
VERSION:2.0
PRODID:-//Benton Franklin Rental Owners Association web - ECPv6.15.17.1//NONSGML v1.0//EN
CALSCALE:GREGORIAN
METHOD:PUBLISH
X-ORIGINAL-URL:https://broawa.org
X-WR-CALDESC:Events for Benton Franklin Rental Owners Association web
REFRESH-INTERVAL;VALUE=DURATION:PT1H
X-Robots-Tag:noindex
X-PUBLISHED-TTL:PT1H
BEGIN:VTIMEZONE
TZID:America/Los_Angeles
BEGIN:DAYLIGHT
TZOFFSETFROM:-0800
TZOFFSETTO:-0700
TZNAME:PDT
DTSTART:20230312T100000
END:DAYLIGHT
BEGIN:STANDARD
TZOFFSETFROM:-0700
TZOFFSETTO:-0800
TZNAME:PST
DTSTART:20231105T090000
END:STANDARD
BEGIN:DAYLIGHT
TZOFFSETFROM:-0800
TZOFFSETTO:-0700
TZNAME:PDT
DTSTART:20240310T100000
END:DAYLIGHT
BEGIN:STANDARD
TZOFFSETFROM:-0700
TZOFFSETTO:-0800
TZNAME:PST
DTSTART:20241103T090000
END:STANDARD
BEGIN:DAYLIGHT
TZOFFSETFROM:-0800
TZOFFSETTO:-0700
TZNAME:PDT
DTSTART:20250309T100000
END:DAYLIGHT
BEGIN:STANDARD
TZOFFSETFROM:-0700
TZOFFSETTO:-0800
TZNAME:PST
DTSTART:20251102T090000
END:STANDARD
BEGIN:DAYLIGHT
TZOFFSETFROM:-0800
TZOFFSETTO:-0700
TZNAME:PDT
DTSTART:20260308T100000
END:DAYLIGHT
BEGIN:STANDARD
TZOFFSETFROM:-0700
TZOFFSETTO:-0800
TZNAME:PST
DTSTART:20261101T090000
END:STANDARD
END:VTIMEZONE
BEGIN:VEVENT
DTSTART;TZID=America/Los_Angeles:20250127T173000
DTEND;TZID=America/Los_Angeles:20250127T180000
DTSTAMP:20260423T165744
CREATED:20241228T023635Z
LAST-MODIFIED:20241228T025221Z
UID:11835-1737999000-1738000800@broawa.org
SUMMARY:Weekly Legislative Updates PM Session
DESCRIPTION:Join us during the legislative session with our Lobbiest\, weekly on Monday night for an update and discussion on the current 2025 legislative session. Signup for our newsletter or update your email prefaces below make sure to check Advocacy. We will send reminders with the zoom links to your email. \n\n\n\nWe have two sessions every Monday when possible during the 2025 legislative Session\, AM and PM.  \n\n\n\nZOOM Meeting: https://us06web.zoom.us/j/82417587785?pwd=YHMjvaHDALE8WT88VqXfj5ZIcqFcXB.1 \n\n\n\n\n\n\n\n\n\n\n\n\n\n\n\n\n\n	Sign up for Benton Franklin Rental Owners Association\n\n	\n		\n		\n		\n	\n	\n\n		\n					\n\n		\n\n		Email Address*\n	\n\n\n		First Name\n	\n\n\n		Last Name\n	\n			\n				* = required field			\n										\n							\n						\n				\n				LifeTime\n				\n				2018\n				\n				2019\n				\n				2020\n				\n				2021\n				\n				2022\n				\n				2023\n				\n				2024\n				\n				Advocacy\n				\n				Member\n				\n				Board\n				\n				Association\n				\n				Commercial\n				\n				Everstar\n				\n				Lobbyist\n				\n				PropertyManagement\n				\n				Expired					\n\n													\n							\n						\n				\n				Lobbiest					\n\n													\n							\n						\n				\n				Everstar\n				\n				Housing Associations					\n\n													\n							\n						\n				\n				Seminar May 2024\n				\n				June 2024 Exlusive meetup\n				\n				Screening Seminar October 2024					\n\n													\n								Type of Emails You Wish to Receive							\n							\n							\n						\n\n				\n				Advocacy\n				\n\n				\n				Membership Notifications\n				\n\n				\n				Newsletters\n				\n\n				\n				Meeting Reminders\n									\n\n							\n		Alternative Email:\n		\n	\n	\n	\n		\n			\n		\n\n					\n				unsubscribe from list
URL:https://broawa.org/event/weekly-legislative-updates-pm-session-2/
CATEGORIES:Legislative
ATTACH;FMTTYPE=image/jpeg:https://broawa.org/wp-content/uploads/2024/12/4c6cf3a4-bfe6-e922-8c27-6ab1820d0b4c.jpeg
END:VEVENT
BEGIN:VEVENT
DTSTART;TZID=America/Los_Angeles:20250127T083000
DTEND;TZID=America/Los_Angeles:20250127T090000
DTSTAMP:20260423T165744
CREATED:20241228T014503Z
LAST-MODIFIED:20250113T224257Z
UID:11782-1737966600-1737968400@broawa.org
SUMMARY:Weekly Legislative Updates AM Session
DESCRIPTION:Join us during the legislative session with our Lobbiest\, weekly on Monday night for an update and discussion on the current 2025 legislative session. Signup for our newsletter or update your email prefaces below make sure to check Advocacy. We will send reminders with the zoom links to your email. \n\n\n\nWe have two sessions every Monday when possible during the 2025 legislative Session\, AM and PM.  \n\n\n\nZOOM Meeting: https://us06web.zoom.us/j/82417587785?pwd=YHMjvaHDALE8WT88VqXfj5ZIcqFcXB.1 \n\n\n\n\n\n\n\n\n\n	Sign up for Benton Franklin Rental Owners Association\n\n	\n		\n		\n		\n	\n	\n\n		\n					\n\n		\n\n		Email Address*\n	\n\n\n		First Name\n	\n\n\n		Last Name\n	\n			\n				* = required field			\n										\n							\n						\n				\n				LifeTime\n				\n				2018\n				\n				2019\n				\n				2020\n				\n				2021\n				\n				2022\n				\n				2023\n				\n				2024\n				\n				Advocacy\n				\n				Member\n				\n				Board\n				\n				Association\n				\n				Commercial\n				\n				Everstar\n				\n				Lobbyist\n				\n				PropertyManagement\n				\n				Expired					\n\n													\n							\n						\n				\n				Lobbiest					\n\n													\n							\n						\n				\n				Everstar\n				\n				Housing Associations					\n\n													\n							\n						\n				\n				Seminar May 2024\n				\n				June 2024 Exlusive meetup\n				\n				Screening Seminar October 2024					\n\n													\n								Type of Emails You Wish to Receive							\n							\n							\n						\n\n				\n				Advocacy\n				\n\n				\n				Membership Notifications\n				\n\n				\n				Newsletters\n				\n\n				\n				Meeting Reminders\n									\n\n							\n		Alternative Email:\n		\n	\n	\n	\n		\n			\n		\n\n					\n				unsubscribe from list
URL:https://broawa.org/event/weekly-legislative-updates-am-session-3/
CATEGORIES:Legislative
ATTACH;FMTTYPE=image/jpeg:https://broawa.org/wp-content/uploads/2024/12/4c6cf3a4-bfe6-e922-8c27-6ab1820d0b4c.jpeg
END:VEVENT
BEGIN:VEVENT
DTSTART;TZID=America/Los_Angeles:20250122T133000
DTEND;TZID=America/Los_Angeles:20250122T143000
DTSTAMP:20260423T165744
CREATED:20250121T023256Z
LAST-MODIFIED:20250121T023259Z
UID:12228-1737552600-1737556200@broawa.org
SUMMARY:Senate Housing Committee
DESCRIPTION:Washington State introducing:  \n\n\n\n\nSB 5222 – Residential Tenant (Rent Control Bill)\n\n\n\n\nSign up to Testify or Post your Postions on each of these Bills
URL:https://broawa.org/event/senate-housing-committee/
CATEGORIES:Legislative
ATTACH;FMTTYPE=image/png:https://broawa.org/wp-content/uploads/2025/01/2025-Legislative-Session-Meetings-2.png
END:VEVENT
BEGIN:VEVENT
DTSTART;TZID=America/Los_Angeles:20250120T173000
DTEND;TZID=America/Los_Angeles:20250120T180000
DTSTAMP:20260423T165744
CREATED:20241228T023306Z
LAST-MODIFIED:20241228T025411Z
UID:11830-1737394200-1737396000@broawa.org
SUMMARY:Weekly Legislative Updates PM Session
DESCRIPTION:Join us during the legislative session with our Lobbiest\, weekly on Monday night for an update and discussion on the current 2025 legislative session. Signup for our newsletter or update your email prefaces below make sure to check Advocacy. We will send reminders with the zoom links to your email. \n\n\n\nWe have two sessions every Monday when possible during the 2025 legislative Session\, AM and PM.  \n\n\n\nZOOM Meeting: https://us06web.zoom.us/j/82417587785?pwd=YHMjvaHDALE8WT88VqXfj5ZIcqFcXB.1 \n\n\n\n\n\n\n\n\n\n\n\n\n\n\n\n\n\n	Sign up for Benton Franklin Rental Owners Association\n\n	\n		\n		\n		\n	\n	\n\n		\n					\n\n		\n\n		Email Address*\n	\n\n\n		First Name\n	\n\n\n		Last Name\n	\n			\n				* = required field			\n										\n							\n						\n				\n				LifeTime\n				\n				2018\n				\n				2019\n				\n				2020\n				\n				2021\n				\n				2022\n				\n				2023\n				\n				2024\n				\n				Advocacy\n				\n				Member\n				\n				Board\n				\n				Association\n				\n				Commercial\n				\n				Everstar\n				\n				Lobbyist\n				\n				PropertyManagement\n				\n				Expired					\n\n													\n							\n						\n				\n				Lobbiest					\n\n													\n							\n						\n				\n				Everstar\n				\n				Housing Associations					\n\n													\n							\n						\n				\n				Seminar May 2024\n				\n				June 2024 Exlusive meetup\n				\n				Screening Seminar October 2024					\n\n													\n								Type of Emails You Wish to Receive							\n							\n							\n						\n\n				\n				Advocacy\n				\n\n				\n				Membership Notifications\n				\n\n				\n				Newsletters\n				\n\n				\n				Meeting Reminders\n									\n\n							\n		Alternative Email:\n		\n	\n	\n	\n		\n			\n		\n\n					\n				unsubscribe from list
URL:https://broawa.org/event/weekly-legislative-updates-pm-session/
CATEGORIES:Legislative
ATTACH;FMTTYPE=image/jpeg:https://broawa.org/wp-content/uploads/2024/12/4c6cf3a4-bfe6-e922-8c27-6ab1820d0b4c.jpeg
END:VEVENT
BEGIN:VEVENT
DTSTART;TZID=America/Los_Angeles:20250120T083000
DTEND;TZID=America/Los_Angeles:20250120T090000
DTSTAMP:20260423T165744
CREATED:20241228T014305Z
LAST-MODIFIED:20250113T224134Z
UID:11780-1737361800-1737363600@broawa.org
SUMMARY:Weekly Legislative Updates AM Session
DESCRIPTION:Join us during the legislative session with our Lobbiest\, weekly on Monday night for an update and discussion on the current 2025 legislative session. Signup for our newsletter or update your email prefaces below make sure to check Advocacy. We will send reminders with the zoom links to your email. \n\n\n\nWe have two sessions every Monday when possible during the 2025 legislative Session\, AM and PM.  \n\n\n\nZOOM Meeting: https://us06web.zoom.us/j/82417587785?pwd=YHMjvaHDALE8WT88VqXfj5ZIcqFcXB.1 \n\n\n\n\n\n\n\n\n\n	Sign up for Benton Franklin Rental Owners Association\n\n	\n		\n		\n		\n	\n	\n\n		\n					\n\n		\n\n		Email Address*\n	\n\n\n		First Name\n	\n\n\n		Last Name\n	\n			\n				* = required field			\n										\n							\n						\n				\n				LifeTime\n				\n				2018\n				\n				2019\n				\n				2020\n				\n				2021\n				\n				2022\n				\n				2023\n				\n				2024\n				\n				Advocacy\n				\n				Member\n				\n				Board\n				\n				Association\n				\n				Commercial\n				\n				Everstar\n				\n				Lobbyist\n				\n				PropertyManagement\n				\n				Expired					\n\n													\n							\n						\n				\n				Lobbiest					\n\n													\n							\n						\n				\n				Everstar\n				\n				Housing Associations					\n\n													\n							\n						\n				\n				Seminar May 2024\n				\n				June 2024 Exlusive meetup\n				\n				Screening Seminar October 2024					\n\n													\n								Type of Emails You Wish to Receive							\n							\n							\n						\n\n				\n				Advocacy\n				\n\n				\n				Membership Notifications\n				\n\n				\n				Newsletters\n				\n\n				\n				Meeting Reminders\n									\n\n							\n		Alternative Email:\n		\n	\n	\n	\n		\n			\n		\n\n					\n				unsubscribe from list
URL:https://broawa.org/event/weekly-legislative-updates-am-session-2/
CATEGORIES:Legislative
ATTACH;FMTTYPE=image/jpeg:https://broawa.org/wp-content/uploads/2024/12/4c6cf3a4-bfe6-e922-8c27-6ab1820d0b4c.jpeg
END:VEVENT
BEGIN:VEVENT
DTSTART;TZID=America/Los_Angeles:20250114T160000
DTEND;TZID=America/Los_Angeles:20250114T170000
DTSTAMP:20260423T165744
CREATED:20250112T040522Z
LAST-MODIFIED:20250112T040525Z
UID:12186-1736870400-1736874000@broawa.org
SUMMARY:House Housing Committee
DESCRIPTION:WFull Committee  \n\n\n\nView Docs \n\n\n\nLocation\n\n\n\nHouse Hearing Rm C and VirtualJohn L. O’Brien Building Olympia\, WA \n\n\n\nREVISED 1/9/2025 5:14 PM \n\n\n\nPublic Hearing\n\n\n\n\nHB 1022 – Creating a homes for heroes program. (Remote Testimony Available). (If measure is referred to committee.) – Testify\n\n\n\nHB 1108 – Creating a task force on housing cost driver analysis. (Remote Testimony Available). (If measure is referred to committee.) – Testify\n\n\n\n\nSee https://app.leg.wa.gov/csi/house for information about viewing and providing public testimony at committee meetings. To view committee meetings or access the committee meeting documents\, visit the Legislature’s committee schedules\, agendas\, and documents website:  https://app.leg.wa.gov/committeeschedules
URL:https://broawa.org/event/house-housing-committee/
CATEGORIES:Legislative
ATTACH;FMTTYPE=image/png:https://broawa.org/wp-content/uploads/2025/01/2025-Legislative-Session-Meetings-2.png
END:VEVENT
BEGIN:VEVENT
DTSTART;TZID=America/Los_Angeles:20250113T173000
DTEND;TZID=America/Los_Angeles:20250113T180000
DTSTAMP:20260423T165744
CREATED:20241228T022829Z
LAST-MODIFIED:20241228T025558Z
UID:11827-1736789400-1736791200@broawa.org
SUMMARY:Weekly Legislative Updates PM Session
DESCRIPTION:Join us during the legislative session with our Lobbiest\, weekly on Monday night for an update and discussion on the current 2025 legislative session. Signup for our newsletter or update your email prefaces below make sure to check Advocacy. We will send reminders with the zoom links to your email. \n\n\n\nWe have two sessions every Monday when possible during the 2025 legislative Session\, AM and PM.  \n\n\n\nZOOM Meeting: https://us06web.zoom.us/j/82417587785?pwd=YHMjvaHDALE8WT88VqXfj5ZIcqFcXB.1 \n\n\n\n\n\n\n\n\n\n\n\n\n\n\n\n\n\n	Sign up for Benton Franklin Rental Owners Association\n\n	\n		\n		\n		\n	\n	\n\n		\n					\n\n		\n\n		Email Address*\n	\n\n\n		First Name\n	\n\n\n		Last Name\n	\n			\n				* = required field			\n										\n							\n						\n				\n				LifeTime\n				\n				2018\n				\n				2019\n				\n				2020\n				\n				2021\n				\n				2022\n				\n				2023\n				\n				2024\n				\n				Advocacy\n				\n				Member\n				\n				Board\n				\n				Association\n				\n				Commercial\n				\n				Everstar\n				\n				Lobbyist\n				\n				PropertyManagement\n				\n				Expired					\n\n													\n							\n						\n				\n				Lobbiest					\n\n													\n							\n						\n				\n				Everstar\n				\n				Housing Associations					\n\n													\n							\n						\n				\n				Seminar May 2024\n				\n				June 2024 Exlusive meetup\n				\n				Screening Seminar October 2024					\n\n													\n								Type of Emails You Wish to Receive							\n							\n							\n						\n\n				\n				Advocacy\n				\n\n				\n				Membership Notifications\n				\n\n				\n				Newsletters\n				\n\n				\n				Meeting Reminders\n									\n\n							\n		Alternative Email:\n		\n	\n	\n	\n		\n			\n		\n\n					\n				unsubscribe from list
URL:https://broawa.org/event/weekly-legislative-updates-am-session-17/
CATEGORIES:Legislative
ATTACH;FMTTYPE=image/jpeg:https://broawa.org/wp-content/uploads/2024/12/4c6cf3a4-bfe6-e922-8c27-6ab1820d0b4c.jpeg
END:VEVENT
BEGIN:VEVENT
DTSTART;TZID=America/Los_Angeles:20250113T133000
DTEND;TZID=America/Los_Angeles:20250113T153000
DTSTAMP:20260423T165744
CREATED:20250110T213617Z
LAST-MODIFIED:20250112T035918Z
UID:12170-1736775000-1736782200@broawa.org
SUMMARY:House Housing Committee
DESCRIPTION:Washington State introducing: (Agenda) \n\n\n\n\nHB 1003 – Regarding Service of Notices/Tenants\n\n\n\nHB 1096 – Lot Splitting\n\n\n\nHB 1217 – Residential Tenant  (Rent Control Bill)\n\n\n\n\nSign up to Testify or Post your Postions on each of these Bills
URL:https://broawa.org/event/house-housing-committe-hb-1217/
CATEGORIES:Legislative
ATTACH;FMTTYPE=image/png:https://broawa.org/wp-content/uploads/2025/01/2025-Legislative-Session-Meetings-2.png
END:VEVENT
BEGIN:VEVENT
DTSTART;TZID=America/Los_Angeles:20250113T083000
DTEND;TZID=America/Los_Angeles:20250113T090000
DTSTAMP:20260423T165744
CREATED:20241228T014026Z
LAST-MODIFIED:20241228T025706Z
UID:11777-1736757000-1736758800@broawa.org
SUMMARY:Weekly Legislative Updates AM Session
DESCRIPTION:Join us during the legislative session with our Lobbiest\, weekly on Monday night for an update and discussion on the current 2025 legislative session. Signup for our newsletter or update your email prefaces below make sure to check Advocacy. We will send reminders with the zoom links to your email. \n\n\n\nWe have two sessions every Monday when possible during the 2025 legislative Session\, AM and PM.  \n\n\n\nZOOM Meeting: https://us06web.zoom.us/j/87559911310?pwd=tSdE6MHdbQIqybDQhoxdonBxaW7cF6.1 \n\n\n\n\n\n\n\n\n\n\n\n\n\n\n\n\n\n\n\n	Sign up for Benton Franklin Rental Owners Association\n\n	\n		\n		\n		\n	\n	\n\n		\n					\n\n		\n\n		Email Address*\n	\n\n\n		First Name\n	\n\n\n		Last Name\n	\n			\n				* = required field			\n										\n							\n						\n				\n				LifeTime\n				\n				2018\n				\n				2019\n				\n				2020\n				\n				2021\n				\n				2022\n				\n				2023\n				\n				2024\n				\n				Advocacy\n				\n				Member\n				\n				Board\n				\n				Association\n				\n				Commercial\n				\n				Everstar\n				\n				Lobbyist\n				\n				PropertyManagement\n				\n				Expired					\n\n													\n							\n						\n				\n				Lobbiest					\n\n													\n							\n						\n				\n				Everstar\n				\n				Housing Associations					\n\n													\n							\n						\n				\n				Seminar May 2024\n				\n				June 2024 Exlusive meetup\n				\n				Screening Seminar October 2024					\n\n													\n								Type of Emails You Wish to Receive							\n							\n							\n						\n\n				\n				Advocacy\n				\n\n				\n				Membership Notifications\n				\n\n				\n				Newsletters\n				\n\n				\n				Meeting Reminders\n									\n\n							\n		Alternative Email:\n		\n	\n	\n	\n		\n			\n		\n\n					\n				unsubscribe from list
URL:https://broawa.org/event/weekly-legislative-updates-am-session/
CATEGORIES:Legislative
ATTACH;FMTTYPE=image/jpeg:https://broawa.org/wp-content/uploads/2024/12/4c6cf3a4-bfe6-e922-8c27-6ab1820d0b4c.jpeg
END:VEVENT
BEGIN:VEVENT
DTSTART;TZID=America/Los_Angeles:20240620T170000
DTEND;TZID=America/Los_Angeles:20240620T200000
DTSTAMP:20260423T165744
CREATED:20240525T153302Z
LAST-MODIFIED:20240526T182133Z
UID:11335-1718902800-1718913600@broawa.org
SUMMARY:Exclusive - Landlord Summer Networking
DESCRIPTION:RSVP by June 5th\, and Come and Join Us for a Special June Summer meeting at CG Public House\, in Kennewick. \nContact Us if you need assistance with your RSVP. You will get a confirmation email if you are successful. \nThis is a EXCLUSIVE Event\, and only the first 40 Landlords or Property Managers who RSVP can attend\, you must RSVP by June 5th. We will have a waiting list just in case we can squeeze in a few more. \nLandlords will be able to voice their concerns and get face time with our Lobbyist and legislators that line up with the BROA mission. \nDisclaimer:  The BROA organization is a non-partisan organization and will not be donating to any legislative campaign.  BROA is single-focused on providing its members a platform to get facetime with their local legislators whose views line up with those of the organization\, regardless of the political party. \nCampaign Donations: \nYou can choose to donate to Representative Stephanie Barnard’s campaign (her funds will go to others she supports since she is not running against anyone) or Representative April Connors.  Lobbyist Jim Henderson will be there as well.  We are requesting that all donations made end with 76 cents so that the representatives can tell that the money came from BROA members. \nCan’t attend but still wish to donate: \nVisit each candidates campaign page below to Donate. \naprilforwashington.com \nstephanieforwa.com
URL:https://broawa.org/event/exclusive-landlord-summer-networking/
CATEGORIES:Legislative,Membership Meetings
END:VEVENT
BEGIN:VEVENT
DTSTART;TZID=America/Los_Angeles:20240321T190000
DTEND;TZID=America/Los_Angeles:20240321T200000
DTSTAMP:20260423T165744
CREATED:20240105T234231Z
LAST-MODIFIED:20241228T022249Z
UID:10448-1711047600-1711051200@broawa.org
SUMMARY:Membership Meeting - Legislative Update
DESCRIPTION:Speaker: Jim Henderson\n\nTopic: 2024 Session Legislative Update\, and how you can participate in future legislative sessions going forward.\nCan’t come in person\, Join the Zoom Meeting \nhttps://us06web.zoom.us/j/87140344589?pwd=Ux6wBf6haia8Ad7ghaKkqM3rha27tn.1\n\n 	Meeting ID: 871 4034 4589\n 	Passcode: 888136\n 	—\n 	One tap mobile\n 	+12532158782\,\,87140344589#\,\,\,\,*888136# US (Tacoma)\n 	+12532050468\,\,87140344589#\,\,\,\,*888136# US\n 	—\n 	Dial\n 	•+1 253 215 8782 US (Tacoma)\n 	Meeting ID: 871 4034 4589\n 	Passcode: 888136\n 	Find your local number: https://us06web.zoom.us/u/kcO0Gde7PR
URL:https://broawa.org/event/membership-meeting-legal-update/
LOCATION:All Saints Episcopal Church\, 1322 Kimball\, Richland\, WA\, 99352\, United States
CATEGORIES:Legislative,Membership Meetings
END:VEVENT
BEGIN:VEVENT
DTSTART;TZID=America/Los_Angeles:20240226T190000
DTEND;TZID=America/Los_Angeles:20240226T200000
DTSTAMP:20260423T165744
CREATED:20240105T233135Z
LAST-MODIFIED:20241228T011158Z
UID:10421-1708974000-1708977600@broawa.org
SUMMARY:Weekly Legislative Updates
DESCRIPTION:Join Us During the Legislative Session Weekly on Monday Night for an update and discussion on the current legislative session.\n\nSignup for our newsletter or update your email prefaces below make sure to check Advocacy. We will send reminders with the zoom links to your email.\n\n\n\nhttps://us06web.zoom.us/j/86912842037?pwd=edbl7n8kV0WPq49gCl…\n\nMeeting ID: 869 1284 2037\n\nPasscode: 475337\n\nOne tap mobile:\n\n+12532158782\,\,86912842037#\,\,\,\,*475337# US (Tacoma)\n\n+12532050468\,\,86912842037#\,\,\,\,*475337# US\n\n \n\n\nAdd to Calendar:\n\nGoogle | Outlook/Apple\n\n\n\n\n\n\n\n\nSubscribe\n* indicates required\nEmail Address *\n\n\n\nFirst Name \n\n\nLast Name \n\n\n\n\nType of Emails You Wish to Receive \n\n 	\nAdvocacy (WA Laws and Bills)\n 	\nMembership Notifications\n 	\nMonthly Newsletters (Paid Members Only)\n 	\nMeeting Reminders\n\n 
URL:https://broawa.org/event/weekly-legislative-updates-8/
CATEGORIES:Legislative
ORGANIZER;CN="Frank Carleo":MAILTO:fjcarleo@gmail.com
END:VEVENT
BEGIN:VEVENT
DTSTART;TZID=America/Los_Angeles:20240219T190000
DTEND;TZID=America/Los_Angeles:20240219T200000
DTSTAMP:20260423T165744
CREATED:20240105T233058Z
LAST-MODIFIED:20240219T183533Z
UID:10419-1708369200-1708372800@broawa.org
SUMMARY:Weekly Legislative Updates
DESCRIPTION:Join Us During the Legislative Session Weekly on Monday Night for an update and discussion on the current legislative session. \nSignup for our newsletter or update your email prefaces below make sure to check Advocacy. We will send reminders with the zoom links to your email. \n\n\n\nhttps://us06web.zoom.us/j/86912842037?pwd=edbl7n8kV0WPq49gCl… \nMeeting ID: 869 1284 2037 \nPasscode: 475337 \nOne tap mobile: \n+12532158782\,\,86912842037#\,\,\,\,*475337# US (Tacoma) \n+12532050468\,\,86912842037#\,\,\,\,*475337# US \n \n\n\nAdd to Calendar: \nGoogle | Outlook/Apple\n\n\n\n \n\n\n\n\nSubscribe\n* indicates required\nEmail Address *\n\n\n\nFirst Name \n\n\nLast Name \n\n\n\nType of Emails You Wish to Receive  \n\n\nAdvocacy (WA Laws and Bills)\n\nMembership Notifications\n\nMonthly Newsletters (Paid Members Only)\n\nMeeting Reminders\n\n 
URL:https://broawa.org/event/weekly-legislative-updates-7/
CATEGORIES:Legislative
ORGANIZER;CN="Frank Carleo":MAILTO:fjcarleo@gmail.com
END:VEVENT
BEGIN:VEVENT
DTSTART;TZID=America/Los_Angeles:20240212T190000
DTEND;TZID=America/Los_Angeles:20240212T200000
DTSTAMP:20260423T165744
CREATED:20240105T233012Z
LAST-MODIFIED:20240105T233012Z
UID:10417-1707764400-1707768000@broawa.org
SUMMARY:Weekly Legislative Updates
DESCRIPTION:Join Us During the Legislative Session Weekly on Monday Night for an update and discussion on the current legislative session. \nSignup for our newsletter or update your email prefaces below make sure to check Advocacy. We will send reminders with the zoom links to your email. \nThis Event will be hosted Virtually Online via Zoom. – Link will be emailed to you. \n \n\n\n\n\nSubscribe\n* indicates required\nEmail Address *\n\n\n\nFirst Name \n\n\nLast Name \n\n\n\nType of Emails You Wish to Receive  \n\n\nAdvocacy (WA Laws and Bills)\n\nMembership Notifications\n\nMonthly Newsletters (Paid Members Only)\n\nMeeting Reminders\n\n 
URL:https://broawa.org/event/weekly-legislative-updates-6/
CATEGORIES:Legislative
ORGANIZER;CN="Frank Carleo":MAILTO:fjcarleo@gmail.com
END:VEVENT
BEGIN:VEVENT
DTSTART;TZID=America/Los_Angeles:20240205T190000
DTEND;TZID=America/Los_Angeles:20240205T200000
DTSTAMP:20260423T165744
CREATED:20240105T232932Z
LAST-MODIFIED:20240105T232932Z
UID:10415-1707159600-1707163200@broawa.org
SUMMARY:Weekly Legislative Updates
DESCRIPTION:Join Us During the Legislative Session Weekly on Monday Night for an update and discussion on the current legislative session. \nSignup for our newsletter or update your email prefaces below make sure to check Advocacy. We will send reminders with the zoom links to your email. \nThis Event will be hosted Virtually Online via Zoom. – Link will be emailed to you. \n \n\n\n\n\nSubscribe\n* indicates required\nEmail Address *\n\n\n\nFirst Name \n\n\nLast Name \n\n\n\nType of Emails You Wish to Receive  \n\n\nAdvocacy (WA Laws and Bills)\n\nMembership Notifications\n\nMonthly Newsletters (Paid Members Only)\n\nMeeting Reminders\n\n 
URL:https://broawa.org/event/weekly-legislative-updates-5/
CATEGORIES:Legislative
ORGANIZER;CN="Frank Carleo":MAILTO:fjcarleo@gmail.com
END:VEVENT
BEGIN:VEVENT
DTSTART;TZID=America/Los_Angeles:20240129T190000
DTEND;TZID=America/Los_Angeles:20240129T200000
DTSTAMP:20260423T165744
CREATED:20240105T232857Z
LAST-MODIFIED:20240105T232857Z
UID:10413-1706554800-1706558400@broawa.org
SUMMARY:Weekly Legislative Updates
DESCRIPTION:Join Us During the Legislative Session Weekly on Monday Night for an update and discussion on the current legislative session. \nSignup for our newsletter or update your email prefaces below make sure to check Advocacy. We will send reminders with the zoom links to your email. \nThis Event will be hosted Virtually Online via Zoom. – Link will be emailed to you. \n \n\n\n\n\nSubscribe\n* indicates required\nEmail Address *\n\n\n\nFirst Name \n\n\nLast Name \n\n\n\nType of Emails You Wish to Receive  \n\n\nAdvocacy (WA Laws and Bills)\n\nMembership Notifications\n\nMonthly Newsletters (Paid Members Only)\n\nMeeting Reminders\n\n 
URL:https://broawa.org/event/weekly-legislative-updates-4/
CATEGORIES:Legislative
ORGANIZER;CN="Frank Carleo":MAILTO:fjcarleo@gmail.com
END:VEVENT
BEGIN:VEVENT
DTSTART;TZID=America/Los_Angeles:20240122T190000
DTEND;TZID=America/Los_Angeles:20240122T200000
DTSTAMP:20260423T165744
CREATED:20240105T232818Z
LAST-MODIFIED:20240105T232818Z
UID:10411-1705950000-1705953600@broawa.org
SUMMARY:Weekly Legislative Updates
DESCRIPTION:Join Us During the Legislative Session Weekly on Monday Night for an update and discussion on the current legislative session. \nSignup for our newsletter or update your email prefaces below make sure to check Advocacy. We will send reminders with the zoom links to your email. \nThis Event will be hosted Virtually Online via Zoom. – Link will be emailed to you. \n \n\n\n\n\nSubscribe\n* indicates required\nEmail Address *\n\n\n\nFirst Name \n\n\nLast Name \n\n\n\nType of Emails You Wish to Receive  \n\n\nAdvocacy (WA Laws and Bills)\n\nMembership Notifications\n\nMonthly Newsletters (Paid Members Only)\n\nMeeting Reminders\n\n 
URL:https://broawa.org/event/weekly-legislative-updates-3/
CATEGORIES:Legislative
ORGANIZER;CN="Frank Carleo":MAILTO:fjcarleo@gmail.com
END:VEVENT
BEGIN:VEVENT
DTSTART;TZID=America/Los_Angeles:20240115T190000
DTEND;TZID=America/Los_Angeles:20240115T200000
DTSTAMP:20260423T165744
CREATED:20240105T232713Z
LAST-MODIFIED:20240105T232713Z
UID:10409-1705345200-1705348800@broawa.org
SUMMARY:Weekly Legislative Updates
DESCRIPTION:Join Us During the Legislative Session Weekly on Monday Night for an update and discussion on the current legislative session. \nSignup for our newsletter or update your email prefaces below make sure to check Advocacy. We will send reminders with the zoom links to your email. \nThis Event will be hosted Virtually Online via Zoom. – Link will be emailed to you. \n \n\n\n\n\nSubscribe\n* indicates required\nEmail Address *\n\n\n\nFirst Name \n\n\nLast Name \n\n\n\nType of Emails You Wish to Receive  \n\n\nAdvocacy (WA Laws and Bills)\n\nMembership Notifications\n\nMonthly Newsletters (Paid Members Only)\n\nMeeting Reminders\n\n 
URL:https://broawa.org/event/weekly-legislative-updates/
CATEGORIES:Legislative
ORGANIZER;CN="Frank Carleo":MAILTO:fjcarleo@gmail.com
END:VEVENT
BEGIN:VEVENT
DTSTART;TZID=America/Los_Angeles:20240108T190000
DTEND;TZID=America/Los_Angeles:20240108T200000
DTSTAMP:20260423T165744
CREATED:20240105T232244Z
LAST-MODIFIED:20240105T232244Z
UID:10406-1704740400-1704744000@broawa.org
SUMMARY:Weekly Legislative Updates
DESCRIPTION:Join Us During the Legislative Session Weekly on Monday Night for an update and discussion on the current legislative session. \nSignup for our newsletter or update your email prefaces below make sure to check Advocacy. We will send reminders with the zoom links to your email. \nThis Event will be hosted Virtually Online via Zoom. – Link will be emailed to you. \n \n\n\n\n\nSubscribe\n* indicates required\nEmail Address *\n\n\n\nFirst Name \n\n\nLast Name \n\n\nType of Emails You Wish to Receive  \n\n\nAdvocacy (WA Laws and Bills)\n\nMembership Notifications\n\nMonthly Newsletters (Paid Members Only)\n\nMeeting Reminders\n\n 
URL:https://broawa.org/event/weekly-legislative-updates-2/
CATEGORIES:Legislative
ORGANIZER;CN="Frank Carleo":MAILTO:fjcarleo@gmail.com
END:VEVENT
END:VCALENDAR