BEGIN:VCALENDAR
VERSION:2.0
PRODID:-//Benton Franklin Rental Owners Association web - ECPv6.15.17.1//NONSGML v1.0//EN
CALSCALE:GREGORIAN
METHOD:PUBLISH
X-WR-CALNAME:Benton Franklin Rental Owners Association web
X-ORIGINAL-URL:https://broawa.org
X-WR-CALDESC:Events for Benton Franklin Rental Owners Association web
REFRESH-INTERVAL;VALUE=DURATION:PT1H
X-Robots-Tag:noindex
X-PUBLISHED-TTL:PT1H
BEGIN:VTIMEZONE
TZID:America/Los_Angeles
BEGIN:DAYLIGHT
TZOFFSETFROM:-0800
TZOFFSETTO:-0700
TZNAME:PDT
DTSTART:20220313T100000
END:DAYLIGHT
BEGIN:STANDARD
TZOFFSETFROM:-0700
TZOFFSETTO:-0800
TZNAME:PST
DTSTART:20221106T090000
END:STANDARD
BEGIN:DAYLIGHT
TZOFFSETFROM:-0800
TZOFFSETTO:-0700
TZNAME:PDT
DTSTART:20230312T100000
END:DAYLIGHT
BEGIN:STANDARD
TZOFFSETFROM:-0700
TZOFFSETTO:-0800
TZNAME:PST
DTSTART:20231105T090000
END:STANDARD
BEGIN:DAYLIGHT
TZOFFSETFROM:-0800
TZOFFSETTO:-0700
TZNAME:PDT
DTSTART:20240310T100000
END:DAYLIGHT
BEGIN:STANDARD
TZOFFSETFROM:-0700
TZOFFSETTO:-0800
TZNAME:PST
DTSTART:20241103T090000
END:STANDARD
BEGIN:DAYLIGHT
TZOFFSETFROM:-0800
TZOFFSETTO:-0700
TZNAME:PDT
DTSTART:20250309T100000
END:DAYLIGHT
BEGIN:STANDARD
TZOFFSETFROM:-0700
TZOFFSETTO:-0800
TZNAME:PST
DTSTART:20251102T090000
END:STANDARD
END:VTIMEZONE
BEGIN:VEVENT
DTSTART;TZID=America/Los_Angeles:20240418T190000
DTEND;TZID=America/Los_Angeles:20240418T200000
DTSTAMP:20260425T035940
CREATED:20240105T234352Z
LAST-MODIFIED:20240403T181140Z
UID:10450-1713466800-1713470400@broawa.org
SUMMARY:Membership Meeting -  Landlord Tenant Law
DESCRIPTION:Speaker: Rachel Woodard\, Powell and Gunter Attorneys At Law
URL:https://broawa.org/event/membership-meeting-tbd-4/
LOCATION:All Saints Episcopal Church\, 1322 Kimball\, Richland\, WA\, 99352\, United States
CATEGORIES:Membership Meetings
END:VEVENT
BEGIN:VEVENT
DTSTART;TZID=America/Los_Angeles:20240418T160000
DTEND;TZID=America/Los_Angeles:20240418T170000
DTSTAMP:20260425T035940
CREATED:20240414T232648Z
LAST-MODIFIED:20240414T233953Z
UID:11185-1713456000-1713459600@broawa.org
SUMMARY:TRI-CITIES LANDLORD APPRECIATION AND OUTREACH EVENT
DESCRIPTION:HOUSING AUTHORITY CITY OF PASCO/FRANKLIN COUNTY \nLEARN ABOUT THE SECTION 8 PROGRAM AND INSPECTION STANDARDS \nLet us say thank you! \nCome and meet the housing staff. \nLet us know your concerns and how we can help! \nRSVP AT INFO@HACPFC.ORG
URL:https://broawa.org/event/11185/
LOCATION:Housing Authority of the City of Pasco and Franklin County\, 2505 W Lewis Street\, Pasco\, WA\, United States
END:VEVENT
BEGIN:VEVENT
DTSTART;TZID=America/Los_Angeles:20240408T183000
DTEND;TZID=America/Los_Angeles:20240408T200000
DTSTAMP:20260425T035940
CREATED:20240105T233517Z
LAST-MODIFIED:20240105T233517Z
UID:10430-1712601000-1712606400@broawa.org
SUMMARY:Board Meeting
DESCRIPTION:
URL:https://broawa.org/event/board-meeting-5/
LOCATION:EverStar Realty\, 1920 N Pittsburgh St a\, Kennewick\, WA\, 99336\, United States
CATEGORIES:Board Meetings
END:VEVENT
BEGIN:VEVENT
DTSTART;TZID=America/Los_Angeles:20240321T190000
DTEND;TZID=America/Los_Angeles:20240321T200000
DTSTAMP:20260425T035940
CREATED:20240105T234231Z
LAST-MODIFIED:20241228T022249Z
UID:10448-1711047600-1711051200@broawa.org
SUMMARY:Membership Meeting - Legislative Update
DESCRIPTION:Speaker: Jim Henderson\n\nTopic: 2024 Session Legislative Update\, and how you can participate in future legislative sessions going forward.\nCan’t come in person\, Join the Zoom Meeting \nhttps://us06web.zoom.us/j/87140344589?pwd=Ux6wBf6haia8Ad7ghaKkqM3rha27tn.1\n\n 	Meeting ID: 871 4034 4589\n 	Passcode: 888136\n 	—\n 	One tap mobile\n 	+12532158782\,\,87140344589#\,\,\,\,*888136# US (Tacoma)\n 	+12532050468\,\,87140344589#\,\,\,\,*888136# US\n 	—\n 	Dial\n 	•+1 253 215 8782 US (Tacoma)\n 	Meeting ID: 871 4034 4589\n 	Passcode: 888136\n 	Find your local number: https://us06web.zoom.us/u/kcO0Gde7PR
URL:https://broawa.org/event/membership-meeting-legal-update/
LOCATION:All Saints Episcopal Church\, 1322 Kimball\, Richland\, WA\, 99352\, United States
CATEGORIES:Legislative,Membership Meetings
END:VEVENT
BEGIN:VEVENT
DTSTART;TZID=America/Los_Angeles:20240311T183000
DTEND;TZID=America/Los_Angeles:20240311T200000
DTSTAMP:20260425T035940
CREATED:20240105T233415Z
LAST-MODIFIED:20240105T233415Z
UID:10427-1710181800-1710187200@broawa.org
SUMMARY:Board Meeting
DESCRIPTION:
URL:https://broawa.org/event/board-meeting-4/
LOCATION:EverStar Realty\, 1920 N Pittsburgh St a\, Kennewick\, WA\, 99336\, United States
CATEGORIES:Board Meetings
END:VEVENT
BEGIN:VEVENT
DTSTART;TZID=America/Los_Angeles:20240226T190000
DTEND;TZID=America/Los_Angeles:20240226T200000
DTSTAMP:20260425T035940
CREATED:20240105T233135Z
LAST-MODIFIED:20241228T011158Z
UID:10421-1708974000-1708977600@broawa.org
SUMMARY:Weekly Legislative Updates
DESCRIPTION:Join Us During the Legislative Session Weekly on Monday Night for an update and discussion on the current legislative session.\n\nSignup for our newsletter or update your email prefaces below make sure to check Advocacy. We will send reminders with the zoom links to your email.\n\n\n\nhttps://us06web.zoom.us/j/86912842037?pwd=edbl7n8kV0WPq49gCl…\n\nMeeting ID: 869 1284 2037\n\nPasscode: 475337\n\nOne tap mobile:\n\n+12532158782\,\,86912842037#\,\,\,\,*475337# US (Tacoma)\n\n+12532050468\,\,86912842037#\,\,\,\,*475337# US\n\n \n\n\nAdd to Calendar:\n\nGoogle | Outlook/Apple\n\n\n\n\n\n\n\n\nSubscribe\n* indicates required\nEmail Address *\n\n\n\nFirst Name \n\n\nLast Name \n\n\n\n\nType of Emails You Wish to Receive \n\n 	\nAdvocacy (WA Laws and Bills)\n 	\nMembership Notifications\n 	\nMonthly Newsletters (Paid Members Only)\n 	\nMeeting Reminders\n\n 
URL:https://broawa.org/event/weekly-legislative-updates-8/
LOCATION:WA
CATEGORIES:Legislative
ORGANIZER;CN="Frank Carleo":MAILTO:fjcarleo@gmail.com
END:VEVENT
BEGIN:VEVENT
DTSTART;TZID=America/Los_Angeles:20240219T190000
DTEND;TZID=America/Los_Angeles:20240219T200000
DTSTAMP:20260425T035940
CREATED:20240105T233058Z
LAST-MODIFIED:20240219T183533Z
UID:10419-1708369200-1708372800@broawa.org
SUMMARY:Weekly Legislative Updates
DESCRIPTION:Join Us During the Legislative Session Weekly on Monday Night for an update and discussion on the current legislative session. \nSignup for our newsletter or update your email prefaces below make sure to check Advocacy. We will send reminders with the zoom links to your email. \n\n\n\nhttps://us06web.zoom.us/j/86912842037?pwd=edbl7n8kV0WPq49gCl… \nMeeting ID: 869 1284 2037 \nPasscode: 475337 \nOne tap mobile: \n+12532158782\,\,86912842037#\,\,\,\,*475337# US (Tacoma) \n+12532050468\,\,86912842037#\,\,\,\,*475337# US \n \n\n\nAdd to Calendar: \nGoogle | Outlook/Apple\n\n\n\n \n\n\n\n\nSubscribe\n* indicates required\nEmail Address *\n\n\n\nFirst Name \n\n\nLast Name \n\n\n\nType of Emails You Wish to Receive  \n\n\nAdvocacy (WA Laws and Bills)\n\nMembership Notifications\n\nMonthly Newsletters (Paid Members Only)\n\nMeeting Reminders\n\n 
URL:https://broawa.org/event/weekly-legislative-updates-7/
LOCATION:WA
CATEGORIES:Legislative
ORGANIZER;CN="Frank Carleo":MAILTO:fjcarleo@gmail.com
END:VEVENT
BEGIN:VEVENT
DTSTART;TZID=America/Los_Angeles:20240215T190000
DTEND;TZID=America/Los_Angeles:20240215T200000
DTSTAMP:20260425T035940
CREATED:20240105T234152Z
LAST-MODIFIED:20240112T175011Z
UID:10446-1708023600-1708027200@broawa.org
SUMMARY:Membership Meeting - City of Pasco Inspectors
DESCRIPTION:Come and learn about City of Pasco’s Licensing and inspection process\, why they have it and how to prepare for it. \n  \nCan’t be there in person\, Join Zoom Meeting\nhttps://us06web.zoom.us/j/82873885905?pwd=5Y6FJXiquoMc8EQ4tWEM2cuFvL0bdT.1 \nMeeting ID: 828 7388 5905\nPasscode: 054568 \n— \nOne tap mobile\n+12532158782\,\,82873885905#\,\,\,\,*054568# US (Tacoma)\n+12532050468\,\,82873885905#\,\,\,\,*054568# US \n— \nDial by your location\n• +1 253 215 8782 US (Tacoma) \nMeeting ID: 828 7388 5905\nPasscode: 054568 \nFind your local number: https://us06web.zoom.us/u/kiYFEEfP
URL:https://broawa.org/event/membership-meeting-cop/
LOCATION:All Saints Episcopal Church\, 1322 Kimball\, Richland\, WA\, 99352\, United States
CATEGORIES:Membership Meetings
END:VEVENT
BEGIN:VEVENT
DTSTART;TZID=America/Los_Angeles:20240212T190000
DTEND;TZID=America/Los_Angeles:20240212T200000
DTSTAMP:20260425T035940
CREATED:20240105T233012Z
LAST-MODIFIED:20240105T233012Z
UID:10417-1707764400-1707768000@broawa.org
SUMMARY:Weekly Legislative Updates
DESCRIPTION:Join Us During the Legislative Session Weekly on Monday Night for an update and discussion on the current legislative session. \nSignup for our newsletter or update your email prefaces below make sure to check Advocacy. We will send reminders with the zoom links to your email. \nThis Event will be hosted Virtually Online via Zoom. – Link will be emailed to you. \n \n\n\n\n\nSubscribe\n* indicates required\nEmail Address *\n\n\n\nFirst Name \n\n\nLast Name \n\n\n\nType of Emails You Wish to Receive  \n\n\nAdvocacy (WA Laws and Bills)\n\nMembership Notifications\n\nMonthly Newsletters (Paid Members Only)\n\nMeeting Reminders\n\n 
URL:https://broawa.org/event/weekly-legislative-updates-6/
LOCATION:WA
CATEGORIES:Legislative
ORGANIZER;CN="Frank Carleo":MAILTO:fjcarleo@gmail.com
END:VEVENT
BEGIN:VEVENT
DTSTART;TZID=America/Los_Angeles:20240212T180000
DTEND;TZID=America/Los_Angeles:20240212T190000
DTSTAMP:20260425T035940
CREATED:20240105T233323Z
LAST-MODIFIED:20240105T233323Z
UID:10425-1707760800-1707764400@broawa.org
SUMMARY:Board Meeting
DESCRIPTION:Legislative Zoom Meeting will happen right after the board meeting
URL:https://broawa.org/event/board-meeting-3/
LOCATION:EverStar Realty\, 1920 N Pittsburgh St a\, Kennewick\, WA\, 99336\, United States
CATEGORIES:Board Meetings
END:VEVENT
BEGIN:VEVENT
DTSTART;TZID=America/Los_Angeles:20240205T190000
DTEND;TZID=America/Los_Angeles:20240205T200000
DTSTAMP:20260425T035940
CREATED:20240105T232932Z
LAST-MODIFIED:20240105T232932Z
UID:10415-1707159600-1707163200@broawa.org
SUMMARY:Weekly Legislative Updates
DESCRIPTION:Join Us During the Legislative Session Weekly on Monday Night for an update and discussion on the current legislative session. \nSignup for our newsletter or update your email prefaces below make sure to check Advocacy. We will send reminders with the zoom links to your email. \nThis Event will be hosted Virtually Online via Zoom. – Link will be emailed to you. \n \n\n\n\n\nSubscribe\n* indicates required\nEmail Address *\n\n\n\nFirst Name \n\n\nLast Name \n\n\n\nType of Emails You Wish to Receive  \n\n\nAdvocacy (WA Laws and Bills)\n\nMembership Notifications\n\nMonthly Newsletters (Paid Members Only)\n\nMeeting Reminders\n\n 
URL:https://broawa.org/event/weekly-legislative-updates-5/
LOCATION:WA
CATEGORIES:Legislative
ORGANIZER;CN="Frank Carleo":MAILTO:fjcarleo@gmail.com
END:VEVENT
BEGIN:VEVENT
DTSTART;TZID=America/Los_Angeles:20240129T190000
DTEND;TZID=America/Los_Angeles:20240129T200000
DTSTAMP:20260425T035940
CREATED:20240105T232857Z
LAST-MODIFIED:20240105T232857Z
UID:10413-1706554800-1706558400@broawa.org
SUMMARY:Weekly Legislative Updates
DESCRIPTION:Join Us During the Legislative Session Weekly on Monday Night for an update and discussion on the current legislative session. \nSignup for our newsletter or update your email prefaces below make sure to check Advocacy. We will send reminders with the zoom links to your email. \nThis Event will be hosted Virtually Online via Zoom. – Link will be emailed to you. \n \n\n\n\n\nSubscribe\n* indicates required\nEmail Address *\n\n\n\nFirst Name \n\n\nLast Name \n\n\n\nType of Emails You Wish to Receive  \n\n\nAdvocacy (WA Laws and Bills)\n\nMembership Notifications\n\nMonthly Newsletters (Paid Members Only)\n\nMeeting Reminders\n\n 
URL:https://broawa.org/event/weekly-legislative-updates-4/
LOCATION:WA
CATEGORIES:Legislative
ORGANIZER;CN="Frank Carleo":MAILTO:fjcarleo@gmail.com
END:VEVENT
BEGIN:VEVENT
DTSTART;TZID=America/Los_Angeles:20240125T193000
DTEND;TZID=America/Los_Angeles:20240125T200000
DTSTAMP:20260425T035940
CREATED:20240105T221123Z
LAST-MODIFIED:20240119T001153Z
UID:10396-1706211000-1706212800@broawa.org
SUMMARY:Membership Meeting - Taxes
DESCRIPTION:UPDATE: Due to weather rescheduled to Jan 25th 2024. \nSpeaker: Blodgett\, Mickelson and Adamson C.P.A. \nTopic: Let’s Talk Taxes!  Questions Welcomed \nCan’t be there in Person\, Join Zoom Meeting \n\nhttps://us06web.zoom.us/j/83239147247?pwd=bLbXHEY29DHYMosoyJaZXXzZMifgjJ.1\nMeeting ID: 832 3914 7247\nPasscode: 327685\n—\nOne tap mobile\n+12532158782\,\,83239147247#\,\,\,\,*327685# US (Tacoma)\n+12532050468\,\,83239147247#\,\,\,\,*327685# US\n—\nDial\n• +1 253 215 8782 US (Tacoma)\nMeeting ID: 832 3914 7247\nPasscode: 327685\nFind your local number: https://us06web.zoom.us/u/kchdBuVkrY
URL:https://broawa.org/event/membership-meeting-taxes/
LOCATION:All Saints Episcopal Church\, 1322 Kimball\, Richland\, WA\, 99352\, United States
CATEGORIES:Membership Meetings
END:VEVENT
BEGIN:VEVENT
DTSTART;TZID=America/Los_Angeles:20240122T190000
DTEND;TZID=America/Los_Angeles:20240122T200000
DTSTAMP:20260425T035940
CREATED:20240105T232818Z
LAST-MODIFIED:20240105T232818Z
UID:10411-1705950000-1705953600@broawa.org
SUMMARY:Weekly Legislative Updates
DESCRIPTION:Join Us During the Legislative Session Weekly on Monday Night for an update and discussion on the current legislative session. \nSignup for our newsletter or update your email prefaces below make sure to check Advocacy. We will send reminders with the zoom links to your email. \nThis Event will be hosted Virtually Online via Zoom. – Link will be emailed to you. \n \n\n\n\n\nSubscribe\n* indicates required\nEmail Address *\n\n\n\nFirst Name \n\n\nLast Name \n\n\n\nType of Emails You Wish to Receive  \n\n\nAdvocacy (WA Laws and Bills)\n\nMembership Notifications\n\nMonthly Newsletters (Paid Members Only)\n\nMeeting Reminders\n\n 
URL:https://broawa.org/event/weekly-legislative-updates-3/
LOCATION:WA
CATEGORIES:Legislative
ORGANIZER;CN="Frank Carleo":MAILTO:fjcarleo@gmail.com
END:VEVENT
BEGIN:VEVENT
DTSTART;TZID=America/Los_Angeles:20240115T190000
DTEND;TZID=America/Los_Angeles:20240115T200000
DTSTAMP:20260425T035940
CREATED:20240105T232713Z
LAST-MODIFIED:20240105T232713Z
UID:10409-1705345200-1705348800@broawa.org
SUMMARY:Weekly Legislative Updates
DESCRIPTION:Join Us During the Legislative Session Weekly on Monday Night for an update and discussion on the current legislative session. \nSignup for our newsletter or update your email prefaces below make sure to check Advocacy. We will send reminders with the zoom links to your email. \nThis Event will be hosted Virtually Online via Zoom. – Link will be emailed to you. \n \n\n\n\n\nSubscribe\n* indicates required\nEmail Address *\n\n\n\nFirst Name \n\n\nLast Name \n\n\n\nType of Emails You Wish to Receive  \n\n\nAdvocacy (WA Laws and Bills)\n\nMembership Notifications\n\nMonthly Newsletters (Paid Members Only)\n\nMeeting Reminders\n\n 
URL:https://broawa.org/event/weekly-legislative-updates/
LOCATION:WA
CATEGORIES:Legislative
ORGANIZER;CN="Frank Carleo":MAILTO:fjcarleo@gmail.com
END:VEVENT
BEGIN:VEVENT
DTSTART;TZID=America/Los_Angeles:20240108T190000
DTEND;TZID=America/Los_Angeles:20240108T200000
DTSTAMP:20260425T035940
CREATED:20240105T232244Z
LAST-MODIFIED:20240105T232244Z
UID:10406-1704740400-1704744000@broawa.org
SUMMARY:Weekly Legislative Updates
DESCRIPTION:Join Us During the Legislative Session Weekly on Monday Night for an update and discussion on the current legislative session. \nSignup for our newsletter or update your email prefaces below make sure to check Advocacy. We will send reminders with the zoom links to your email. \nThis Event will be hosted Virtually Online via Zoom. – Link will be emailed to you. \n \n\n\n\n\nSubscribe\n* indicates required\nEmail Address *\n\n\n\nFirst Name \n\n\nLast Name \n\n\nType of Emails You Wish to Receive  \n\n\nAdvocacy (WA Laws and Bills)\n\nMembership Notifications\n\nMonthly Newsletters (Paid Members Only)\n\nMeeting Reminders\n\n 
URL:https://broawa.org/event/weekly-legislative-updates-2/
LOCATION:WA
CATEGORIES:Legislative
ORGANIZER;CN="Frank Carleo":MAILTO:fjcarleo@gmail.com
END:VEVENT
BEGIN:VEVENT
DTSTART;TZID=America/Los_Angeles:20240108T180000
DTEND;TZID=America/Los_Angeles:20240108T190000
DTSTAMP:20260425T035940
CREATED:20240105T220100Z
LAST-MODIFIED:20240105T220152Z
UID:10392-1704736800-1704740400@broawa.org
SUMMARY:Board Meeting
DESCRIPTION:Legislative Zoom Meeting will happen right after the board meeting
URL:https://broawa.org/event/board-meeting-2/
LOCATION:EverStar Realty\, 1920 N Pittsburgh St a\, Kennewick\, WA\, 99336\, United States
CATEGORIES:Board Meetings
END:VEVENT
BEGIN:VEVENT
DTSTART;TZID=America/Los_Angeles:20231211T183000
DTEND;TZID=America/Los_Angeles:20231211T200000
DTSTAMP:20260425T035940
CREATED:20221121T010349Z
LAST-MODIFIED:20221121T010349Z
UID:7165-1702319400-1702324800@broawa.org
SUMMARY:Monthly Board Meeting
DESCRIPTION:
URL:https://broawa.org/event/monthly-board-meeting-18/
LOCATION:EverStar Realty\, 1920 N Pittsburgh St a\, Kennewick\, WA\, 99336\, United States
CATEGORIES:Board Meetings
END:VEVENT
BEGIN:VEVENT
DTSTART;TZID=America/Los_Angeles:20231207T173000
DTEND;TZID=America/Los_Angeles:20231207T203000
DTSTAMP:20260425T035940
CREATED:20231023T221417Z
LAST-MODIFIED:20231202T195340Z
UID:9768-1701970200-1701981000@broawa.org
SUMMARY:2023 Member Christmas Party
DESCRIPTION:REGISTER AND PAY ONLINE BELOW \nYou can stop by the office to Purchase/register in the meantime\, I’ll send out a notice once this issues is fixed.\nLocation: Meadow Springs Country Club: 700 Country Club Rd\, Richland\, WA 99352 \nChristmas Dinner Menu: \nAll entrees include salad\, side\, vegetables\, bread\, and dessert. \nPlease select your dinner choice per guest\, during registration (no changes): \n\nHerb Roasted Prime Rib        \nChicken Wellington\nSalmon Orange Basil with Melted Leeks\n\nGuest Speakers: Gayle Stack\, Jim Henderson\, and even Maybe Rep April Conners \nVenue Dress code – The dress code applies to all members and guests using the Club. Members and guests shall comply with the MSCC dress code. \n\nMen shall have a collared or mock neck shirt with appropriate pants or shorts.\nWomen shall have either collared\, mock neck or sleeved shirt with appropriate pants. Ladies’ sleeveless dresses\, sunback dresses and formal/ evening dresses are permitted in the Clubhouse facilities.\nNice Jeans in good repair are ok to wear. 
URL:https://broawa.org/event/2023-member-christmas-party/
LOCATION:Meadow Springs Country Club\, 700 Country Club Rd\, Richland\, WA\, 99352
CATEGORIES:Membership Meetings
ATTACH;FMTTYPE=image/png:https://broawa.org/wp-content/uploads/2023/10/Green-Red-Simple-Christmas-Party-Invitation-1.png
END:VEVENT
BEGIN:VEVENT
DTSTART;TZID=America/Los_Angeles:20231116T190000
DTEND;TZID=America/Los_Angeles:20231116T200000
DTSTAMP:20260425T035940
CREATED:20231111T155427Z
LAST-MODIFIED:20231111T155427Z
UID:9900-1700161200-1700164800@broawa.org
SUMMARY:Membership Meeting - Investing in Special Needs Housing
DESCRIPTION:Location: All Saints Episcopal Church 1322 Kimball\, Richland\, WA\nSpeaker: Randy Hubbs\nTopic: Investing in Special Needs Housing \nQuestions Welcomed
URL:https://broawa.org/event/membership-meeting-investing-in-special-needs-housing/
LOCATION:All Saints Episcopal Church\, 1322 Kimball\, Richland\, WA\, 99352\, United States
CATEGORIES:Membership Meetings
END:VEVENT
BEGIN:VEVENT
DTSTART;TZID=America/Los_Angeles:20231113T183000
DTEND;TZID=America/Los_Angeles:20231113T200000
DTSTAMP:20260425T035940
CREATED:20221121T010309Z
LAST-MODIFIED:20221121T010309Z
UID:7157-1699900200-1699905600@broawa.org
SUMMARY:Monthly Board Meeting
DESCRIPTION:
URL:https://broawa.org/event/monthly-board-meeting-17/
LOCATION:EverStar Realty\, 1920 N Pittsburgh St a\, Kennewick\, WA\, 99336\, United States
CATEGORIES:Board Meetings
END:VEVENT
BEGIN:VEVENT
DTSTART;TZID=America/Los_Angeles:20231019T190000
DTEND;TZID=America/Los_Angeles:20231019T200000
DTSTAMP:20260425T035940
CREATED:20231009T160653Z
LAST-MODIFIED:20241228T031418Z
UID:9723-1697742000-1697745600@broawa.org
SUMMARY:MONTHLY MEMBERSHIP MEETING - Cost Less Carpet
DESCRIPTION:Sharing Insight on Cost Effective Flooring\nCost Less Carpet \nQuestions Welcomed
URL:https://broawa.org/event/monthly-membership-meeting-cost-less-carpet/
LOCATION:All Saints Episcopal Church\, 1322 Kimball\, Richland\, WA\, 99352\, United States
CATEGORIES:Membership Meetings
END:VEVENT
BEGIN:VEVENT
DTSTART;TZID=America/Los_Angeles:20231009T183000
DTEND;TZID=America/Los_Angeles:20231009T200000
DTSTAMP:20260425T035940
CREATED:20221121T010023Z
LAST-MODIFIED:20221121T010023Z
UID:7155-1696876200-1696881600@broawa.org
SUMMARY:Monthly Board Meeting
DESCRIPTION:
URL:https://broawa.org/event/monthly-board-meeting-16/
LOCATION:EverStar Realty\, 1920 N Pittsburgh St a\, Kennewick\, WA\, 99336\, United States
CATEGORIES:Board Meetings
END:VEVENT
BEGIN:VEVENT
DTSTART;TZID=America/Los_Angeles:20230921T190000
DTEND;TZID=America/Los_Angeles:20230921T200000
DTSTAMP:20260425T035940
CREATED:20230821T225224Z
LAST-MODIFIED:20230821T225431Z
UID:9639-1695322800-1695326400@broawa.org
SUMMARY:MONTHLY MEMBERSHIP MEETING - Updates to Landlord Tenant Laws
DESCRIPTION:Updates to the Landlord Tenant Laws \nSpeaker: Attorney Rachael Woodard \nRachael will go over some of the changes that happened over the past legislative session and their impact to the Washington Landlord Tenant Laws.
URL:https://broawa.org/event/monthly-membership-meeting-updates-to-landlord-tenant-laws/
LOCATION:All Saints Episcopal Church\, 1322 Kimball\, Richland\, WA\, 99352\, United States
CATEGORIES:Membership Meetings
END:VEVENT
BEGIN:VEVENT
DTSTART;TZID=America/Los_Angeles:20230911T183000
DTEND;TZID=America/Los_Angeles:20230911T200000
DTSTAMP:20260425T035940
CREATED:20221121T005839Z
LAST-MODIFIED:20221121T005839Z
UID:7153-1694457000-1694462400@broawa.org
SUMMARY:Monthly Board Meeting
DESCRIPTION:
URL:https://broawa.org/event/monthly-board-meeting-15/
LOCATION:EverStar Realty\, 1920 N Pittsburgh St a\, Kennewick\, WA\, 99336\, United States
CATEGORIES:Board Meetings
END:VEVENT
BEGIN:VEVENT
DTSTART;TZID=America/Los_Angeles:20230814T183000
DTEND;TZID=America/Los_Angeles:20230814T200000
DTSTAMP:20260425T035940
CREATED:20221121T005753Z
LAST-MODIFIED:20221121T005753Z
UID:7151-1692037800-1692043200@broawa.org
SUMMARY:Monthly Board Meeting
DESCRIPTION:
URL:https://broawa.org/event/monthly-board-meeting-14/
LOCATION:EverStar Realty\, 1920 N Pittsburgh St a\, Kennewick\, WA\, 99336\, United States
CATEGORIES:Board Meetings
END:VEVENT
BEGIN:VEVENT
DTSTART;TZID=America/Los_Angeles:20230710T183000
DTEND;TZID=America/Los_Angeles:20230710T200000
DTSTAMP:20260425T035940
CREATED:20221121T005712Z
LAST-MODIFIED:20241228T025908Z
UID:7149-1689013800-1689019200@broawa.org
SUMMARY:Monthly Board Meeting
DESCRIPTION:
URL:https://broawa.org/event/monthly-board-meeting-13/
LOCATION:EverStar Realty\, 1920 N Pittsburgh St a\, Kennewick\, WA\, 99336\, United States
CATEGORIES:Board Meetings
END:VEVENT
BEGIN:VEVENT
DTSTART;TZID=America/Los_Angeles:20230612T183000
DTEND;TZID=America/Los_Angeles:20230612T200000
DTSTAMP:20260425T035940
CREATED:20221121T005617Z
LAST-MODIFIED:20221121T005617Z
UID:7147-1686594600-1686600000@broawa.org
SUMMARY:Monthly Board Meeting
DESCRIPTION:
URL:https://broawa.org/event/monthly-board-meeting-12/
LOCATION:EverStar Realty\, 1920 N Pittsburgh St a\, Kennewick\, WA\, 99336\, United States
CATEGORIES:Board Meetings
END:VEVENT
BEGIN:VEVENT
DTSTART;TZID=America/Los_Angeles:20230518T190000
DTEND;TZID=America/Los_Angeles:20230518T200000
DTSTAMP:20260425T035940
CREATED:20230516T131057Z
LAST-MODIFIED:20230516T131059Z
UID:9488-1684436400-1684440000@broawa.org
SUMMARY:Monthly Membership Meeting
DESCRIPTION:Zac Mason \nChicago Title and Escrow \n\nWill Speak On Title and Escrow\, Relating to Owning and Buying Rental Properties
URL:https://broawa.org/event/monthly-membership-meeting-3/
LOCATION:All Saints Episcopal Church\, 1322 Kimball\, Richland\, WA\, 99352\, United States
CATEGORIES:Membership Meetings
END:VEVENT
BEGIN:VEVENT
DTSTART;TZID=America/Los_Angeles:20230511T170000
DTEND;TZID=America/Los_Angeles:20230511T200000
DTSTAMP:20260425T035940
CREATED:20230219T005858Z
LAST-MODIFIED:20230511T130443Z
UID:8918-1683824400-1683835200@broawa.org
SUMMARY:2023 Forms Orientation Seminar
DESCRIPTION:Come and learn about forms available for landlords\, and how to use them. This is a very informative orientation for every landlord or property manager. We will be covering rental lease and required forms\, rental criteria\, and various notices required under the newly revised WA state Tenant-Landlord laws. Sample forms will be provided for review\, but it is advised attendees bring something to take notes.\nCost is free for current BROA members.\n\nHere is the Digital Version of the BROA Forms Packet for the meeting for those that did not RSVP earlier.\n  \nNeed to Renew\, pay dues online\, mail or bring your dues into the office Today!\n  \nNot a member yet?   JOIN ONLINE TODAY\n\n\nLocation:  Columbia Basin College\, Building SWL\, Room 121.  (Walk in through the main entrance\, it is the round auditorium on the right.)     Campus Map \nYOU MUST LOG INTO THE WEBSITE FOR THE RSVP BUTTON TO WORK: LOGIN HERE 
URL:https://broawa.org/event/2023-forms-orientation-seminar/
LOCATION:Columbia Basin College\, 2600 N 20th Ave\, Pasco\, WA\, 99301\, United States
CATEGORIES:Forms Orientation
END:VEVENT
END:VCALENDAR