BEGIN:VCALENDAR
VERSION:2.0
PRODID:-//Benton Franklin Rental Owners Association web - ECPv6.15.17.1//NONSGML v1.0//EN
CALSCALE:GREGORIAN
METHOD:PUBLISH
X-ORIGINAL-URL:https://broawa.org
X-WR-CALDESC:Events for Benton Franklin Rental Owners Association web
REFRESH-INTERVAL;VALUE=DURATION:PT1H
X-Robots-Tag:noindex
X-PUBLISHED-TTL:PT1H
BEGIN:VTIMEZONE
TZID:America/Los_Angeles
BEGIN:DAYLIGHT
TZOFFSETFROM:-0800
TZOFFSETTO:-0700
TZNAME:PDT
DTSTART:20250309T100000
END:DAYLIGHT
BEGIN:STANDARD
TZOFFSETFROM:-0700
TZOFFSETTO:-0800
TZNAME:PST
DTSTART:20251102T090000
END:STANDARD
BEGIN:DAYLIGHT
TZOFFSETFROM:-0800
TZOFFSETTO:-0700
TZNAME:PDT
DTSTART:20260308T100000
END:DAYLIGHT
BEGIN:STANDARD
TZOFFSETFROM:-0700
TZOFFSETTO:-0800
TZNAME:PST
DTSTART:20261101T090000
END:STANDARD
BEGIN:DAYLIGHT
TZOFFSETFROM:-0800
TZOFFSETTO:-0700
TZNAME:PDT
DTSTART:20270314T100000
END:DAYLIGHT
BEGIN:STANDARD
TZOFFSETFROM:-0700
TZOFFSETTO:-0800
TZNAME:PST
DTSTART:20271107T090000
END:STANDARD
END:VTIMEZONE
BEGIN:VEVENT
DTSTART;TZID=America/Los_Angeles:20261109T180000
DTEND;TZID=America/Los_Angeles:20261109T190000
DTSTAMP:20260423T120131
CREATED:20260316T133830Z
LAST-MODIFIED:20260316T133833Z
UID:13050-1794247200-1794250800@broawa.org
SUMMARY:Monthly Board Meeting
DESCRIPTION:Monthly BROA Board of Directors Meeting
URL:https://broawa.org/event/monthly-board-meeting-28/
LOCATION:IHS\, 5903 W Clearwater Ave\, Kennewick\, Washington\, 99336\, United States
CATEGORIES:Board Meetings
END:VEVENT
BEGIN:VEVENT
DTSTART;TZID=America/Los_Angeles:20261119T183000
DTEND;TZID=America/Los_Angeles:20261119T200000
DTSTAMP:20260423T120131
CREATED:20260316T131902Z
LAST-MODIFIED:20260316T131906Z
UID:13037-1795113000-1795118400@broawa.org
SUMMARY:General Membership Meeting
DESCRIPTION:Speaker: TBD \n\n\n\n““ \n\n\n\nQuestions Welcomed
URL:https://broawa.org/event/general-membership-meeting-5/
LOCATION:All Saints Episcopal Church\, 1322 Kimball\, Richland\, WA\, 99352\, United States
END:VEVENT
END:VCALENDAR