BEGIN:VCALENDAR
VERSION:2.0
PRODID:-//Benton Franklin Rental Owners Association web - ECPv6.15.17.1//NONSGML v1.0//EN
CALSCALE:GREGORIAN
METHOD:PUBLISH
X-WR-CALNAME:Benton Franklin Rental Owners Association web
X-ORIGINAL-URL:https://broawa.org
X-WR-CALDESC:Events for Benton Franklin Rental Owners Association web
REFRESH-INTERVAL;VALUE=DURATION:PT1H
X-Robots-Tag:noindex
X-PUBLISHED-TTL:PT1H
BEGIN:VTIMEZONE
TZID:America/Los_Angeles
BEGIN:DAYLIGHT
TZOFFSETFROM:-0800
TZOFFSETTO:-0700
TZNAME:PDT
DTSTART:20230312T100000
END:DAYLIGHT
BEGIN:STANDARD
TZOFFSETFROM:-0700
TZOFFSETTO:-0800
TZNAME:PST
DTSTART:20231105T090000
END:STANDARD
BEGIN:DAYLIGHT
TZOFFSETFROM:-0800
TZOFFSETTO:-0700
TZNAME:PDT
DTSTART:20240310T100000
END:DAYLIGHT
BEGIN:STANDARD
TZOFFSETFROM:-0700
TZOFFSETTO:-0800
TZNAME:PST
DTSTART:20241103T090000
END:STANDARD
BEGIN:DAYLIGHT
TZOFFSETFROM:-0800
TZOFFSETTO:-0700
TZNAME:PDT
DTSTART:20250309T100000
END:DAYLIGHT
BEGIN:STANDARD
TZOFFSETFROM:-0700
TZOFFSETTO:-0800
TZNAME:PST
DTSTART:20251102T090000
END:STANDARD
END:VTIMEZONE
BEGIN:VEVENT
DTSTART;TZID=America/Los_Angeles:20241111T183000
DTEND;TZID=America/Los_Angeles:20241111T200000
DTSTAMP:20260424T094414
CREATED:20240105T233903Z
LAST-MODIFIED:20240105T233903Z
UID:10444-1731349800-1731355200@broawa.org
SUMMARY:Board Meeting
DESCRIPTION:
URL:https://broawa.org/event/board-meeting-12/
LOCATION:EverStar Realty\, 1920 N Pittsburgh St a\, Kennewick\, WA\, 99336\, United States
CATEGORIES:Board Meetings
END:VEVENT
BEGIN:VEVENT
DTSTART;TZID=America/Los_Angeles:20241121T190000
DTEND;TZID=America/Los_Angeles:20241121T200000
DTSTAMP:20260424T094414
CREATED:20240105T234856Z
LAST-MODIFIED:20241101T230101Z
UID:10459-1732215600-1732219200@broawa.org
SUMMARY:Membership Meeting - CPA
DESCRIPTION:CPA Blodgett\, Mickelson\, Rowley and Adamson \nBring Your Questions
URL:https://broawa.org/event/membership-meeting-tbd-8/
LOCATION:All Saints Episcopal Church\, 1322 Kimball\, Richland\, WA\, 99352\, United States
CATEGORIES:Membership Meetings
END:VEVENT
END:VCALENDAR