BEGIN:VCALENDAR
VERSION:2.0
PRODID:-//Benton Franklin Rental Owners Association web - ECPv6.15.17.1//NONSGML v1.0//EN
CALSCALE:GREGORIAN
METHOD:PUBLISH
X-WR-CALNAME:Benton Franklin Rental Owners Association web
X-ORIGINAL-URL:https://broawa.org
X-WR-CALDESC:Events for Benton Franklin Rental Owners Association web
REFRESH-INTERVAL;VALUE=DURATION:PT1H
X-Robots-Tag:noindex
X-PUBLISHED-TTL:PT1H
BEGIN:VTIMEZONE
TZID:America/Los_Angeles
BEGIN:DAYLIGHT
TZOFFSETFROM:-0800
TZOFFSETTO:-0700
TZNAME:PDT
DTSTART:20240310T100000
END:DAYLIGHT
BEGIN:STANDARD
TZOFFSETFROM:-0700
TZOFFSETTO:-0800
TZNAME:PST
DTSTART:20241103T090000
END:STANDARD
BEGIN:DAYLIGHT
TZOFFSETFROM:-0800
TZOFFSETTO:-0700
TZNAME:PDT
DTSTART:20250309T100000
END:DAYLIGHT
BEGIN:STANDARD
TZOFFSETFROM:-0700
TZOFFSETTO:-0800
TZNAME:PST
DTSTART:20251102T090000
END:STANDARD
BEGIN:DAYLIGHT
TZOFFSETFROM:-0800
TZOFFSETTO:-0700
TZNAME:PDT
DTSTART:20260308T100000
END:DAYLIGHT
BEGIN:STANDARD
TZOFFSETFROM:-0700
TZOFFSETTO:-0800
TZNAME:PST
DTSTART:20261101T090000
END:STANDARD
END:VTIMEZONE
BEGIN:VEVENT
DTSTART;TZID=America/Los_Angeles:20250203T083000
DTEND;TZID=America/Los_Angeles:20250203T090000
DTSTAMP:20260424T045317
CREATED:20241228T014659Z
LAST-MODIFIED:20250113T224414Z
UID:11785-1738571400-1738573200@broawa.org
SUMMARY:Weekly Legislative Updates AM Session
DESCRIPTION:Join us during the legislative session with our Lobbiest\, weekly on Monday night for an update and discussion on the current 2025 legislative session. Signup for our newsletter or update your email prefaces below make sure to check Advocacy. We will send reminders with the zoom links to your email. \n\n\n\nWe have two sessions every Monday when possible during the 2025 legislative Session\, AM and PM.  \n\n\n\nZOOM Meeting: https://us06web.zoom.us/j/82417587785?pwd=YHMjvaHDALE8WT88VqXfj5ZIcqFcXB.1 \n\n\n\n\n\n\n\n\n\n	Sign up for Benton Franklin Rental Owners Association\n\n	\n		\n		\n		\n	\n	\n\n		\n					\n\n		\n\n		Email Address*\n	\n\n\n		First Name\n	\n\n\n		Last Name\n	\n			\n				* = required field			\n										\n							\n						\n				\n				LifeTime\n				\n				2018\n				\n				2019\n				\n				2020\n				\n				2021\n				\n				2022\n				\n				2023\n				\n				2024\n				\n				Advocacy\n				\n				Member\n				\n				Board\n				\n				Association\n				\n				Commercial\n				\n				Everstar\n				\n				Lobbyist\n				\n				PropertyManagement\n				\n				Expired					\n\n													\n							\n						\n				\n				Lobbiest					\n\n													\n							\n						\n				\n				Everstar\n				\n				Housing Associations					\n\n													\n							\n						\n				\n				Seminar May 2024\n				\n				June 2024 Exlusive meetup\n				\n				Screening Seminar October 2024					\n\n													\n								Type of Emails You Wish to Receive							\n							\n							\n						\n\n				\n				Advocacy\n				\n\n				\n				Membership Notifications\n				\n\n				\n				Newsletters\n				\n\n				\n				Meeting Reminders\n									\n\n							\n		Alternative Email:\n		\n	\n	\n	\n		\n			\n		\n\n					\n				unsubscribe from list
URL:https://broawa.org/event/weekly-legislative-updates-am-session-4/
LOCATION:Washington
CATEGORIES:Legislative
ATTACH;FMTTYPE=image/jpeg:https://broawa.org/wp-content/uploads/2024/12/4c6cf3a4-bfe6-e922-8c27-6ab1820d0b4c.jpeg
END:VEVENT
BEGIN:VEVENT
DTSTART;TZID=America/Los_Angeles:20250210T083000
DTEND;TZID=America/Los_Angeles:20250210T090000
DTSTAMP:20260424T045317
CREATED:20241228T014929Z
LAST-MODIFIED:20250113T224715Z
UID:11788-1739176200-1739178000@broawa.org
SUMMARY:Weekly Legislative Updates AM Session
DESCRIPTION:Join us during the legislative session with our Lobbiest\, weekly on Monday night for an update and discussion on the current 2025 legislative session. Signup for our newsletter or update your email prefaces below make sure to check Advocacy. We will send reminders with the zoom links to your email. \n\n\n\nWe have two sessions every Monday when possible during the 2025 legislative Session\, AM and PM.  \n\n\n\nZOOM Meeting: https://us06web.zoom.us/j/82417587785?pwd=YHMjvaHDALE8WT88VqXfj5ZIcqFcXB.1 \n\n\n\n\n\n\n\n\n\n\n\n\n\n	Sign up for Benton Franklin Rental Owners Association\n\n	\n		\n		\n		\n	\n	\n\n		\n					\n\n		\n\n		Email Address*\n	\n\n\n		First Name\n	\n\n\n		Last Name\n	\n			\n				* = required field			\n										\n							\n						\n				\n				LifeTime\n				\n				2018\n				\n				2019\n				\n				2020\n				\n				2021\n				\n				2022\n				\n				2023\n				\n				2024\n				\n				Advocacy\n				\n				Member\n				\n				Board\n				\n				Association\n				\n				Commercial\n				\n				Everstar\n				\n				Lobbyist\n				\n				PropertyManagement\n				\n				Expired					\n\n													\n							\n						\n				\n				Lobbiest					\n\n													\n							\n						\n				\n				Everstar\n				\n				Housing Associations					\n\n													\n							\n						\n				\n				Seminar May 2024\n				\n				June 2024 Exlusive meetup\n				\n				Screening Seminar October 2024					\n\n													\n								Type of Emails You Wish to Receive							\n							\n							\n						\n\n				\n				Advocacy\n				\n\n				\n				Membership Notifications\n				\n\n				\n				Newsletters\n				\n\n				\n				Meeting Reminders\n									\n\n							\n		Alternative Email:\n		\n	\n	\n	\n		\n			\n		\n\n					\n				unsubscribe from list
URL:https://broawa.org/event/weekly-legislative-updates-am-session-5/
LOCATION:Washington
CATEGORIES:Legislative
ATTACH;FMTTYPE=image/jpeg:https://broawa.org/wp-content/uploads/2024/12/4c6cf3a4-bfe6-e922-8c27-6ab1820d0b4c.jpeg
END:VEVENT
BEGIN:VEVENT
DTSTART;TZID=America/Los_Angeles:20250210T173000
DTEND;TZID=America/Los_Angeles:20250210T180000
DTSTAMP:20260424T045317
CREATED:20241228T033337Z
LAST-MODIFIED:20241228T033339Z
UID:11854-1739208600-1739210400@broawa.org
SUMMARY:Weekly Legislative Updates PM Session
DESCRIPTION:Join us during the legislative session with our Lobbiest\, weekly on Monday night for an update and discussion on the current 2025 legislative session. Signup for our newsletter or update your email prefaces below make sure to check Advocacy. We will send reminders with the zoom links to your email. \n\n\n\nWe have two sessions every Monday when possible during the 2025 legislative Session\, AM and PM.  \n\n\n\nZOOM Meeting: https://us06web.zoom.us/j/82417587785?pwd=YHMjvaHDALE8WT88VqXfj5ZIcqFcXB.1 \n\n\n\n\n\n\n\n\n\n\n\n\n\n\n\n\n\n	Sign up for Benton Franklin Rental Owners Association\n\n	\n		\n		\n		\n	\n	\n\n		\n					\n\n		\n\n		Email Address*\n	\n\n\n		First Name\n	\n\n\n		Last Name\n	\n			\n				* = required field			\n										\n							\n						\n				\n				LifeTime\n				\n				2018\n				\n				2019\n				\n				2020\n				\n				2021\n				\n				2022\n				\n				2023\n				\n				2024\n				\n				Advocacy\n				\n				Member\n				\n				Board\n				\n				Association\n				\n				Commercial\n				\n				Everstar\n				\n				Lobbyist\n				\n				PropertyManagement\n				\n				Expired					\n\n													\n							\n						\n				\n				Lobbiest					\n\n													\n							\n						\n				\n				Everstar\n				\n				Housing Associations					\n\n													\n							\n						\n				\n				Seminar May 2024\n				\n				June 2024 Exlusive meetup\n				\n				Screening Seminar October 2024					\n\n													\n								Type of Emails You Wish to Receive							\n							\n							\n						\n\n				\n				Advocacy\n				\n\n				\n				Membership Notifications\n				\n\n				\n				Newsletters\n				\n\n				\n				Meeting Reminders\n									\n\n							\n		Alternative Email:\n		\n	\n	\n	\n		\n			\n		\n\n					\n				unsubscribe from list
URL:https://broawa.org/event/weekly-legislative-updates-pm-session-4/
LOCATION:Washington
CATEGORIES:Legislative
ATTACH;FMTTYPE=image/jpeg:https://broawa.org/wp-content/uploads/2024/12/4c6cf3a4-bfe6-e922-8c27-6ab1820d0b4c.jpeg
END:VEVENT
BEGIN:VEVENT
DTSTART;TZID=America/Los_Angeles:20250210T180000
DTEND;TZID=America/Los_Angeles:20250210T190000
DTSTAMP:20260424T045317
CREATED:20241228T030523Z
LAST-MODIFIED:20241228T033042Z
UID:11870-1739210400-1739214000@broawa.org
SUMMARY:Monthly Board Meeting
DESCRIPTION:Monthly BROA Board of Directors Meeting
URL:https://broawa.org/event/monthly-board-meeting-2/
LOCATION:Bottom Line LLC\, 5903 W Clearwater Ave\, Kennewick\, Washington\, 99336\, United States
CATEGORIES:Membership Meetings
END:VEVENT
BEGIN:VEVENT
DTSTART;TZID=America/Los_Angeles:20250217T173000
DTEND;TZID=America/Los_Angeles:20250217T180000
DTSTAMP:20260424T045317
CREATED:20241228T033452Z
LAST-MODIFIED:20241228T033453Z
UID:11919-1739813400-1739815200@broawa.org
SUMMARY:Weekly Legislative Updates PM Session
DESCRIPTION:Join us during the legislative session with our Lobbiest\, weekly on Monday night for an update and discussion on the current 2025 legislative session. Signup for our newsletter or update your email prefaces below make sure to check Advocacy. We will send reminders with the zoom links to your email. \n\n\n\nWe have two sessions every Monday when possible during the 2025 legislative Session\, AM and PM.  \n\n\n\nZOOM Meeting: https://us06web.zoom.us/j/82417587785?pwd=YHMjvaHDALE8WT88VqXfj5ZIcqFcXB.1 \n\n\n\n\n\n\n\n\n\n\n\n\n\n\n\n\n\n	Sign up for Benton Franklin Rental Owners Association\n\n	\n		\n		\n		\n	\n	\n\n		\n					\n\n		\n\n		Email Address*\n	\n\n\n		First Name\n	\n\n\n		Last Name\n	\n			\n				* = required field			\n										\n							\n						\n				\n				LifeTime\n				\n				2018\n				\n				2019\n				\n				2020\n				\n				2021\n				\n				2022\n				\n				2023\n				\n				2024\n				\n				Advocacy\n				\n				Member\n				\n				Board\n				\n				Association\n				\n				Commercial\n				\n				Everstar\n				\n				Lobbyist\n				\n				PropertyManagement\n				\n				Expired					\n\n													\n							\n						\n				\n				Lobbiest					\n\n													\n							\n						\n				\n				Everstar\n				\n				Housing Associations					\n\n													\n							\n						\n				\n				Seminar May 2024\n				\n				June 2024 Exlusive meetup\n				\n				Screening Seminar October 2024					\n\n													\n								Type of Emails You Wish to Receive							\n							\n							\n						\n\n				\n				Advocacy\n				\n\n				\n				Membership Notifications\n				\n\n				\n				Newsletters\n				\n\n				\n				Meeting Reminders\n									\n\n							\n		Alternative Email:\n		\n	\n	\n	\n		\n			\n		\n\n					\n				unsubscribe from list
URL:https://broawa.org/event/weekly-legislative-updates-pm-session-5/
LOCATION:Washington
CATEGORIES:Legislative
ATTACH;FMTTYPE=image/jpeg:https://broawa.org/wp-content/uploads/2024/12/4c6cf3a4-bfe6-e922-8c27-6ab1820d0b4c.jpeg
END:VEVENT
BEGIN:VEVENT
DTSTART;TZID=America/Los_Angeles:20250220T063000
DTEND;TZID=America/Los_Angeles:20250220T200000
DTSTAMP:20260424T045317
CREATED:20241228T031833Z
LAST-MODIFIED:20250218T053759Z
UID:11894-1740033000-1740081600@broawa.org
SUMMARY:Monthly Membership Meeting - Insurance
DESCRIPTION:6:30 PM – Networking\n\n\n\n7:00 PM – Meeting\n\n\n\n\nSpeaker: Jason Hogue \n\n\n\nTopic: Lets Talk about Insurance\, Questions Welcome \n\n\n\nGoogle MeetVideo call link: https://meet.google.com/cao-ocou-bczOr dial: ‪(US) +1 802-392-3780‬ PIN: ‪407 930 990‬# \n\n\n\n\n\n\n\n\n\n\n\n\n\n\n\n\n\n	Sign up for Benton Franklin Rental Owners Association\n\n	\n		\n		\n		\n	\n	\n\n		\n					\n\n		\n\n		Email Address*\n	\n\n\n		First Name\n	\n\n\n		Last Name\n	\n			\n				* = required field			\n										\n							\n						\n				\n				LifeTime\n				\n				2018\n				\n				2019\n				\n				2020\n				\n				2021\n				\n				2022\n				\n				2023\n				\n				2024\n				\n				Advocacy\n				\n				Member\n				\n				Board\n				\n				Association\n				\n				Commercial\n				\n				Everstar\n				\n				Lobbyist\n				\n				PropertyManagement\n				\n				Expired					\n\n													\n							\n						\n				\n				Lobbiest					\n\n													\n							\n						\n				\n				Everstar\n				\n				Housing Associations					\n\n													\n							\n						\n				\n				Seminar May 2024\n				\n				June 2024 Exlusive meetup\n				\n				Screening Seminar October 2024					\n\n													\n								Type of Emails You Wish to Receive							\n							\n							\n						\n\n				\n				Advocacy\n				\n\n				\n				Membership Notifications\n				\n\n				\n				Newsletters\n				\n\n				\n				Meeting Reminders\n									\n\n							\n		Alternative Email:\n		\n	\n	\n	\n		\n			\n		\n\n					\n				unsubscribe from list
URL:https://broawa.org/event/monthly-membership-meeting-tbd-2/
LOCATION:All Saints Episcopal Church\, 1322 Kimball\, Richland\, WA\, 99352\, United States
CATEGORIES:Membership Meetings
END:VEVENT
BEGIN:VEVENT
DTSTART;TZID=America/Los_Angeles:20250224T173000
DTEND;TZID=America/Los_Angeles:20250224T180000
DTSTAMP:20260424T045317
CREATED:20241228T033603Z
LAST-MODIFIED:20241228T033605Z
UID:11922-1740418200-1740420000@broawa.org
SUMMARY:Weekly Legislative Updates PM Session
DESCRIPTION:Join us during the legislative session with our Lobbiest\, weekly on Monday night for an update and discussion on the current 2025 legislative session. Signup for our newsletter or update your email prefaces below make sure to check Advocacy. We will send reminders with the zoom links to your email. \n\n\n\nWe have two sessions every Monday when possible during the 2025 legislative Session\, AM and PM.  \n\n\n\nZOOM Meeting: https://us06web.zoom.us/j/82417587785?pwd=YHMjvaHDALE8WT88VqXfj5ZIcqFcXB.1 \n\n\n\n\n\n\n\n\n\n\n\n\n\n\n\n\n\n	Sign up for Benton Franklin Rental Owners Association\n\n	\n		\n		\n		\n	\n	\n\n		\n					\n\n		\n\n		Email Address*\n	\n\n\n		First Name\n	\n\n\n		Last Name\n	\n			\n				* = required field			\n										\n							\n						\n				\n				LifeTime\n				\n				2018\n				\n				2019\n				\n				2020\n				\n				2021\n				\n				2022\n				\n				2023\n				\n				2024\n				\n				Advocacy\n				\n				Member\n				\n				Board\n				\n				Association\n				\n				Commercial\n				\n				Everstar\n				\n				Lobbyist\n				\n				PropertyManagement\n				\n				Expired					\n\n													\n							\n						\n				\n				Lobbiest					\n\n													\n							\n						\n				\n				Everstar\n				\n				Housing Associations					\n\n													\n							\n						\n				\n				Seminar May 2024\n				\n				June 2024 Exlusive meetup\n				\n				Screening Seminar October 2024					\n\n													\n								Type of Emails You Wish to Receive							\n							\n							\n						\n\n				\n				Advocacy\n				\n\n				\n				Membership Notifications\n				\n\n				\n				Newsletters\n				\n\n				\n				Meeting Reminders\n									\n\n							\n		Alternative Email:\n		\n	\n	\n	\n		\n			\n		\n\n					\n				unsubscribe from list
URL:https://broawa.org/event/weekly-legislative-updates-pm-session-6/
LOCATION:Washington
CATEGORIES:Legislative
ATTACH;FMTTYPE=image/jpeg:https://broawa.org/wp-content/uploads/2024/12/4c6cf3a4-bfe6-e922-8c27-6ab1820d0b4c.jpeg
END:VEVENT
END:VCALENDAR