BEGIN:VCALENDAR
VERSION:2.0
PRODID:-//Benton Franklin Rental Owners Association web - ECPv6.15.17.1//NONSGML v1.0//EN
CALSCALE:GREGORIAN
METHOD:PUBLISH
X-WR-CALNAME:Benton Franklin Rental Owners Association web
X-ORIGINAL-URL:https://broawa.org
X-WR-CALDESC:Events for Benton Franklin Rental Owners Association web
REFRESH-INTERVAL;VALUE=DURATION:PT1H
X-Robots-Tag:noindex
X-PUBLISHED-TTL:PT1H
BEGIN:VTIMEZONE
TZID:America/Los_Angeles
BEGIN:DAYLIGHT
TZOFFSETFROM:-0800
TZOFFSETTO:-0700
TZNAME:PDT
DTSTART:20240310T100000
END:DAYLIGHT
BEGIN:STANDARD
TZOFFSETFROM:-0700
TZOFFSETTO:-0800
TZNAME:PST
DTSTART:20241103T090000
END:STANDARD
BEGIN:DAYLIGHT
TZOFFSETFROM:-0800
TZOFFSETTO:-0700
TZNAME:PDT
DTSTART:20250309T100000
END:DAYLIGHT
BEGIN:STANDARD
TZOFFSETFROM:-0700
TZOFFSETTO:-0800
TZNAME:PST
DTSTART:20251102T090000
END:STANDARD
BEGIN:DAYLIGHT
TZOFFSETFROM:-0800
TZOFFSETTO:-0700
TZNAME:PDT
DTSTART:20260308T100000
END:DAYLIGHT
BEGIN:STANDARD
TZOFFSETFROM:-0700
TZOFFSETTO:-0800
TZNAME:PST
DTSTART:20261101T090000
END:STANDARD
END:VTIMEZONE
BEGIN:VEVENT
DTSTART;TZID=America/Los_Angeles:20250512T180000
DTEND;TZID=America/Los_Angeles:20250512T190000
DTSTAMP:20260424T003521
CREATED:20241228T030927Z
LAST-MODIFIED:20241228T032333Z
UID:11876-1747072800-1747076400@broawa.org
SUMMARY:Monthly Board Meeting
DESCRIPTION:Monthly BROA Board of Directors Meeting
URL:https://broawa.org/event/monthly-board-meeting-19/
LOCATION:Bottom Line LLC\, 5903 W Clearwater Ave\, Kennewick\, Washington\, 99336\, United States
CATEGORIES:Board Meetings
END:VEVENT
BEGIN:VEVENT
DTSTART;TZID=America/Los_Angeles:20250515T183000
DTEND;TZID=America/Los_Angeles:20250515T200000
DTSTAMP:20260424T003521
CREATED:20241228T032518Z
LAST-MODIFIED:20250515T232316Z
UID:11904-1747333800-1747339200@broawa.org
SUMMARY:Monthly Membership Meeting - Legislative Recap
DESCRIPTION:Networking 6:30PM and Meeting starts at 7pm. \n\n\n\nSpeaker: Jim Henderson \n\n\n\nTopic: 2025 Legislative Session \n\n\n\nWe recommend you come in person and network\, but if you need to join in remotely via Zoom: \n\n\n\nhttps://us06web.zoom.us/j/85238458156?pwd=ycYnRyzRajONb1oQ5mMQHatAdGhUEa.1 \n\n\n\n\nMeeting ID: 852 3845 8156\n\n\n\nPasscode: 089410\n\n\n\n\nOne tap mobile \n\n\n\n\n+12532050468\,\,85238458156#\,\,\,\,*089410# US\n\n\n\n+12532158782\,\,85238458156#\,\,\,\,*089410# US (Tacoma)\n\n\n\n\n\n\n\n\n\n\n\n\n\n\n\n\n\n\n		\n					\n				Sign up for Benton Franklin Rental Owners Association			\n					\n			\n				\n				\n				\n				\n				\n				\n				\n								\n					\n											\n\n					\n\n	\n\n		Email Address*\n	\n\n\n\n\n	\n\n\n\n	\n\n\n\n	\n\n		First Name\n	\n\n\n\n\n	\n\n		Last Name\n	\n\n\n\n\n	\n\n\n\n\n\n\n\n\n\n\n\n			\n			Type of Emails You Wish to Receive		\n		\n		\n\n				\n				Advocacy\n				\n\n				\n				Membership Notifications\n				\n\n				\n				Newsletters\n				\n\n				\n				Meeting Reminders\n					\n\n\n\n\n						\n							* = required field						\n							\n		Alternative Email:\n		\n	\n	\n						\n						\n					\n\n											\n							\n								unsubscribe from list
URL:https://broawa.org/event/monthly-membership-meeting-tbd-5/
LOCATION:All Saints Episcopal Church\, 1322 Kimball\, Richland\, WA\, 99352\, United States
CATEGORIES:Legislative,Membership Meetings
END:VEVENT
BEGIN:VEVENT
DTSTART;TZID=America/Los_Angeles:20250522T170000
DTEND;TZID=America/Los_Angeles:20250522T200000
DTSTAMP:20260424T003521
CREATED:20250311T014230Z
LAST-MODIFIED:20250520T160041Z
UID:12302-1747933200-1747944000@broawa.org
SUMMARY:Forms Seminar
DESCRIPTION:Class is full\, please use the notify Button to get on the waiting list\n\n\n\nIf there is enough interest we will schedule another class. \n\n\n\n \n\n\n\n \n\n\n\n (You must be logged in first then come back to this page)\n\n\n\n\n\nCome and learn about forms available for landlords\, and how to use them. This is a very informative orientation for every landlord or property manager. We will be covering rental lease and required forms\, rental criteria\, and various notices required under the newly revised WA state Tenant-Landlord laws. Sample forms will be provided for review\, but it is advised attendees bring something to take notes. \n\n\n\nCost is free for current BROA members. \n\n\n\nNeed to Renew\, pay dues online\, mail or bring your dues into the office Today! \n\n\n\nNot a member yet?   JOIN ONLINE TODAY \n\n\n\nLocation:  Columbia Basin College\, Building SWL\, Room 121.  (Walk in through the main entrance\, it is the auditorium on the right.)     Campus Map \n\n\n\nYOU MUST LOG INTO THE WEBSITE FOR THE RSVP BUTTON BELOW TO WORK: LOGIN HERE  \n\n\n\nStill having trouble signing ups use the Contact Us form to send us a message and we’ll make sure you get signed up.
URL:https://broawa.org/event/forms-seminar/
LOCATION:Columbia Basin College\, 2600 N 20th Ave\, Pasco\, WA\, 99301\, United States
CATEGORIES:Forms Orientation
END:VEVENT
END:VCALENDAR