BEGIN:VCALENDAR
VERSION:2.0
PRODID:-//Benton Franklin Rental Owners Association web - ECPv6.15.17.1//NONSGML v1.0//EN
CALSCALE:GREGORIAN
METHOD:PUBLISH
X-ORIGINAL-URL:https://broawa.org
X-WR-CALDESC:Events for Benton Franklin Rental Owners Association web
REFRESH-INTERVAL;VALUE=DURATION:PT1H
X-Robots-Tag:noindex
X-PUBLISHED-TTL:PT1H
BEGIN:VTIMEZONE
TZID:America/Los_Angeles
BEGIN:DAYLIGHT
TZOFFSETFROM:-0800
TZOFFSETTO:-0700
TZNAME:PDT
DTSTART:20240310T100000
END:DAYLIGHT
BEGIN:STANDARD
TZOFFSETFROM:-0700
TZOFFSETTO:-0800
TZNAME:PST
DTSTART:20241103T090000
END:STANDARD
BEGIN:DAYLIGHT
TZOFFSETFROM:-0800
TZOFFSETTO:-0700
TZNAME:PDT
DTSTART:20250309T100000
END:DAYLIGHT
BEGIN:STANDARD
TZOFFSETFROM:-0700
TZOFFSETTO:-0800
TZNAME:PST
DTSTART:20251102T090000
END:STANDARD
BEGIN:DAYLIGHT
TZOFFSETFROM:-0800
TZOFFSETTO:-0700
TZNAME:PDT
DTSTART:20260308T100000
END:DAYLIGHT
BEGIN:STANDARD
TZOFFSETFROM:-0700
TZOFFSETTO:-0800
TZNAME:PST
DTSTART:20261101T090000
END:STANDARD
END:VTIMEZONE
BEGIN:VEVENT
DTSTART;TZID=America/Los_Angeles:20251204T173000
DTEND;TZID=America/Los_Angeles:20251204T203000
DTSTAMP:20260423T133623
CREATED:20250909T033604Z
LAST-MODIFIED:20251126T012636Z
UID:12702-1764869400-1764880200@broawa.org
SUMMARY:2025 Member Christmas Party
DESCRIPTION:You will need to login first to the website to Purchase your tickets\nCost: $50 per Attendee <- if you do not see the signup above please login to the website.       Hit the + button and then Get Ticket to purchase….Thursday\, December 4\, 2025 \nSocial at 5:30 PMDinner at 6:00 PM \nLocation: Meadow Springs Country Club: 700 Country Club Rd\, Richland\, WA 99352 \nChristmas Dinner Menu:  \nHoliday Dinner:  \nSelect your entree & desert choice per guest\, during your ticket purchase: \n1. Herb Roasted Prime Rib – Chief’s blend of herbs and seasonings crusted on slow roasted rib-eye. Presented with creamed horesradish and Au Jus. Served with Mashed Potatoes and seasonal vegetables.2. Chicken Chasseur – Seared chicken breast with herbed mushrooms and roasted rich tomato found. Served with garlic Rosemary roasted Yukons and seasonal vegetables.3. Pesto Crusted Salmon – Fresh Alaskan king salmon seared with house-made pesto\, creamy risotto\, and seasonal vegetables. \nDessert Choices: \n\nChocolate Lava cake\nCrème Brûlée\nApple Cobbler\n\nGuest Speakers:  \n\nJim Henderson – Our current Lobbyist\n\nThis will be your chance to mingle with our lobbyist \nVenue Dress code – The dress code applies to all members and guests using the Club. Members and guests shall comply with the MSCC dress code. \n\nMen shall have a collared or mock neck shirt with appropriate pants or shorts.\nWomen shall have either collared\, mock neck or sleeved shirt with appropriate pants. Ladies’ sleeveless dresses\, sunback dresses and formal/ evening dresses are permitted in the Clubhouse facilities.\nNice Jeans in good repair are ok to wear. 
URL:https://broawa.org/event/2025-member-christmas-party/
LOCATION:Meadow Springs Country Club\, 700 Country Club Rd\, Richland\, WA\, 99352
CATEGORIES:Membership Meetings
ATTACH;FMTTYPE=image/png:https://broawa.org/wp-content/uploads/2025/09/BROACHristmas2025.png
END:VEVENT
END:VCALENDAR